BEGIN:VCALENDAR
PRODID:-//Grails iCalendar plugin//NONSGML Grails iCalendar plugin//EN
VERSION:2.0
CALSCALE:GREGORIAN
METHOD:PUBLISH
BEGIN:VEVENT
DTSTAMP:20260421T051540Z
DTSTART;TZID=Europe/Brussels:20260603T090000
DTEND;TZID=Europe/Brussels:20260607T170000
SUMMARY:International Society for Neoplatonic Studies (ISNS)
UID:20260422T103251Z-iCalPlugin-Grails@philevents-web-6b96c54f56-bljdq
TZID:Europe/Brussels
LOCATION:Institute of Philosophy\, Leuven\, Belgium
ORGANIZER;CN=John Finamore:
METHOD:PUBLISH
END:VEVENT
END:VCALENDAR
