BEGIN:VCALENDAR
PRODID:-//Grails iCalendar plugin//NONSGML Grails iCalendar plugin//EN
VERSION:2.0
CALSCALE:GREGORIAN
METHOD:PUBLISH
BEGIN:VEVENT
DTSTAMP:20260420T044726Z
DTSTART;TZID=America/Chicago:20260509T100000
DTEND;TZID=America/Chicago:20260509T170000
SUMMARY:1st Annual University of Chicago Graduate Student Conference
UID:20260423T203944Z-iCalPlugin-Grails@philevents-web-f5d4878dd-nv7xt
TZID:America/Chicago
LOCATION:Chicago\, United States
ORGANIZER;CN=Samuel J. Wheeler;CN=Gray Reichl:
METHOD:PUBLISH
END:VEVENT
END:VCALENDAR
