BEGIN:VCALENDAR
PRODID:-//Grails iCalendar plugin//NONSGML Grails iCalendar plugin//EN
VERSION:2.0
CALSCALE:GREGORIAN
METHOD:PUBLISH
BEGIN:VEVENT
DTSTAMP:20260421T065401Z
DTSTART;TZID=Europe/Brussels:20260605T090000
DTEND;TZID=Europe/Brussels:20260605T100000
SUMMARY:Ralph Cudworth and the Rise and Fall of the Neoplatonic Reading of Plato’s Theaetetus
UID:20260422T151253Z-iCalPlugin-Grails@philevents-web-6b96c54f56-bljdq
TZID:Europe/Brussels
LOCATION:Institute of Philosophy\, Leuven\, Belgium
DESCRIPTION:<p>Day and Time TBS in Conference Schedule</p>
ORGANIZER;CN=John Finamore:
METHOD:PUBLISH
END:VEVENT
END:VCALENDAR
