BEGIN:VCALENDAR
PRODID:-//Grails iCalendar plugin//NONSGML Grails iCalendar plugin//EN
VERSION:2.0
CALSCALE:GREGORIAN
METHOD:PUBLISH
BEGIN:VEVENT
DTSTAMP:20260420T125304Z
DTSTART;TZID=Europe/Berlin:20260331T234500
DTEND;TZID=Europe/Berlin:20260331T234500
SUMMARY:Dia:logos
UID:20260420T162935Z-iCalPlugin-Grails@philevents-web-f5d4878dd-nv7xt
TZID:Europe/Berlin
LOCATION:Rathenaustraße 10\, Gießen\, Germany\, 35394
DESCRIPTION:<p>CALL FOR PAPERS</p>\n<p>dia:logos&nbsp\; -&nbsp\; 11. STUDENTISCHE TAGUNG F&Uuml\;R PHILOSOPHIE</p>\n<p>Dia:logos bietet Student:Innen aller Fachrichtungen die M&ouml\;glichkeit\, ihre philosophischen Arbeiten in einem 30 min&uuml\;tigen Vortrag mit anschlie&szlig\;ender Diskussion zu pr&auml\;sentieren.</p>\n<p>Wann: 29.05. bis 31.05.2026</p>\n<p>Wo: JLU Gie&szlig\;en</p>\n<p>Interessierte senden bitte ein anonymes Abstract (max. 2000 Zeichen) bis zum 31.03.2026 mit dem Betreff "Einreichung Dialogos 2026" an:&nbsp\; &nbsp\; &nbsp\; &nbsp\; &nbsp\; &nbsp\; &nbsp\; &nbsp\; &nbsp\; &nbsp\; &nbsp\; &nbsp\; &nbsp\; &nbsp\; &nbsp\; &nbsp\; &nbsp\; &nbsp\; &nbsp\; &nbsp\; &nbsp\; &nbsp\; &nbsp\; &nbsp\; &nbsp\; &nbsp\; &nbsp\; &nbsp\; &nbsp\; &nbsp\; &nbsp\; &nbsp\; &nbsp\; &nbsp\;anna-sophie.nell@lehramt.uni-giessen.de.</p>\n<p>Folgende Informationen sind in der E-Mail anzugeben:</p>\n<p>Name (gerne Pronomen)\, Vortragstitel\, E-Mail-Adresse\, Institution und akademische Titel.</p>\n<p>Wir ermutigen besonders Personen\, die zu unterrepr&auml\;sentierten Gruppen in der Philosophie z&auml\;hlen\, zur Einreichung. Bei Barrieren\, z. B. bei der Abstracterstellung\, bieten wir individuelle Unterst&uuml\;tzung an. &Uuml\;bernachtungen f&uuml\;r Vortragende k&ouml\;nnen bereitgestellt und Reisekosten bezuschusst werden.</p>\n<p>Weitere Infos zu Ort\, Ablauf und Programm findet ihr auf Instagram (@inphiloencer) oder unter www.uni-giessen.de/Dialogos. R&uuml\;ckfragen bitte an Dialogos@phil.uni-giessen.de.</p>
ORGANIZER:
METHOD:PUBLISH
END:VEVENT
END:VCALENDAR
