BEGIN:VCALENDAR
PRODID:-//Grails iCalendar plugin//NONSGML Grails iCalendar plugin//EN
VERSION:2.0
CALSCALE:GREGORIAN
METHOD:PUBLISH
BEGIN:VEVENT
DTSTAMP:20260421T215044Z
DTSTART;TZID=America/Bogota:20260601T090000
DTEND;TZID=America/Bogota:20260605T170000
SUMMARY:XXI Simposio latinoamericano de lógica matemática SLALM
UID:20260424T143334Z-iCalPlugin-Grails@philevents-web-6b96c54f56-bljdq
TZID:America/Bogota
LOCATION:Bogotá\, Colombia
DESCRIPTION:<p>El Simposio Latinoamericano de L&oacute\;gica Matem&aacute\;tica (SLALM) fue concebido a finales de la d&eacute\;cada de 1960 por Abraham Robinson\, entonces presidente de la&nbsp\;<em>Association for Symbolic Logic</em>&nbsp\;(ASL). Es un encuentro que re&uacute\;ne a la comunidad de investigadores en l&oacute\;gica de toda Am&eacute\;rica Latina y que se enriquece con importantes aportes de investigadores de todo el mundo. Ha crecido gracias al apoyo de la ASL\, as&iacute\; como de las instituciones locales que lo albergan.</p>\n<p>The Latin American Symposium on Mathematical Logic (SLALM) was conceived in the late 1960s by Abraham Robinson\, then president of the Association for Symbolic Logic (ASL). It is a meeting that brings together the community of logic researchers from across Latin America and is enriched by important contributions from researchers around the world. It has grown thanks to the support of the ASL\, as well as the local institutions that host it.</p>
ORGANIZER:
METHOD:PUBLISH
END:VEVENT
END:VCALENDAR
