BEGIN:VCALENDAR
PRODID:-//Grails iCalendar plugin//NONSGML Grails iCalendar plugin//EN
VERSION:2.0
CALSCALE:GREGORIAN
METHOD:PUBLISH
BEGIN:VEVENT
DTSTAMP:20260421T230059Z
DTSTART;TZID=America/Chicago:20260812T090000
DTEND;TZID=America/Chicago:20260814T170000
SUMMARY:Philosophy of Biology at Madison (POBAM) 2026
UID:20260424T173430Z-iCalPlugin-Grails@philevents-web-6b96c54f56-bljdq
TZID:America/Chicago
LOCATION:Madison\, United States
DESCRIPTION:<p>POBAM is a philosophy of biology workshop that began at the University of Wisconsin\, Madison in 2010 and moved to the University of Utah in 2018.&nbsp\; As of 2026\, it will be back in Madison! At its core\, POBAM aims to showcase innovative work in philosophy of biology and to identify new areas that philosophers of biology might work on.&nbsp\; Workshops are structured to provide constructive feedback\, training with peers and for junior scholars\, and opportunity for informal and friendly discussions\, while encouraging work bridging philosophy\, biology\, and other cognate fields.&nbsp\;</p>
ORGANIZER;CN=Aja Watkins;CN=Marina DiMarco:
METHOD:PUBLISH
END:VEVENT
END:VCALENDAR
