BEGIN:VCALENDAR
PRODID:-//Grails iCalendar plugin//NONSGML Grails iCalendar plugin//EN
VERSION:2.0
CALSCALE:GREGORIAN
METHOD:PUBLISH
BEGIN:VEVENT
DTSTAMP:20260422T002956Z
DTSTART;TZID=America/Chicago:20260302T234500
DTEND;TZID=America/Chicago:20260302T234500
SUMMARY:Philosophy of Biology at Madison (POBAM) 2026
UID:20260424T215518Z-iCalPlugin-Grails@philevents-web-6b96c54f56-bljdq
TZID:America/Chicago
LOCATION:Madison\, United States
DESCRIPTION:<p>CFA: POBAM 2026</p>\n<p>The POBAM Workshop showcases new\, innovative\, interdisciplinary and collaborative work in the philosophy of biology. Submissions can be on any topic in the philosophy of biology\, biologically oriented philosophy of science\, or philosophically-informed biology. POBAM 2026 will be held at the University of Wisconsin-Madison\, August 12-14. Keynote speakers include Yasmin Haddad (Universit&eacute\; du Qu&eacute\;bec &agrave\; Montr&eacute\;al)\, Rose Novick (University of Washington) and Anne Pringle (UW Madison\, Botany).</p>\n<p>For 2026\, you may submit a proposal for either a long talk (40 min talk\, 20 min Q&amp\;A)\, short talk (20 min talk\, 10 min Q&amp\;A)\, or a poster.&nbsp\;</p>\n<p>Abstract submissions may be up to 500 words and must be prepared for blind review. Please indicate in your submission whether you are applying for a long talk\, short talk\, or lightning talk + poster. Also\, indicate if you wish to be considered for another category of talk if you are not selected for the one you prefer.</p>\n<p>We also welcome submissions of proposals for professional development sessions. These might include any number of topics related to pedagogy\, community\, or our profession. Please indicate in your proposal whether you would be willing to lead a session of this type. We particularly encourage junior scholars to suggest professional development session topics\, without the expectation that they will organize them.&nbsp\;</p>\n<p>The deadline for submissions is Feb 23\, 2026.&nbsp\;</p>\n<p>Submissions via: https://easychair.org/conferences/?conf=pobam2026</p>\n<p>More information at: https://sites.google.com/view/pobam2026</p>\n<p>Email the organizers: pobam2026@gmail.com</p>\n
ORGANIZER;CN=Aja Watkins;CN=Marina DiMarco:
METHOD:PUBLISH
END:VEVENT
END:VCALENDAR
