BEGIN:VCALENDAR
PRODID:-//Grails iCalendar plugin//NONSGML Grails iCalendar plugin//EN
VERSION:2.0
CALSCALE:GREGORIAN
METHOD:PUBLISH
BEGIN:VEVENT
DTSTAMP:20260422T160244Z
DTSTART;TZID=America/New_York:20260530T090000
DTEND;TZID=America/New_York:20260531T170000
SUMMARY:16th New York City Workshop in Early Modern Philosophy
UID:20260426T190138Z-iCalPlugin-Grails@philevents-web-6b96c54f56-bljdq
TZID:America/New_York
LOCATION:Fordham University Lincoln Center\, New York\, United States
DESCRIPTION:<p><strong>Saturday\, May 30&nbsp\;</strong><strong>&mdash\; Lowenstein\, 12th Floor Lounge</strong></p>\n<p><strong><br></strong></p>\n<p><strong>9:45: Welcome Note</strong></p>\n<p><strong>10:00 &ndash\; 11:30 Chair: Galen Barry</strong>&nbsp\;(Iona)</p>\n<p><strong>Christopher Kluz&nbsp\;</strong>(Chinese University of Hong Kong\, Shenzhen)\,&nbsp\;<em>&ldquo\;Are All Ideas Affects for</em></p>\n<p><em>Spinoza? A Puzzle Concerning Desire and Belief&rdquo\;</em></p>\n<p><strong>Jen Nguyen</strong>&nbsp\;(Bucknell)\,&nbsp\;<em>&ldquo\;Modernizing Descartes's Algebra: Leibniz&rsquo\;s Calculus of Situations</em></p>\n<p><em>Revisited&rdquo\;</em></p>\n<p><em><br></em></p>\n<p><strong>11:45 &ndash\; 12:45 Chair: Ohad Nachtomy&nbsp\;</strong>(Technion)</p>\n<p><strong>Jeffrey K. McDonough&nbsp\;</strong>(Harvard)\,&nbsp\;<em>&ldquo\;Leibniz as Atomist&rdquo\;</em></p>\n<p><em><br></em></p>\n<p><strong>12:45 &ndash\; 2:30: Lunch</strong></p>\n<p><strong><br></strong></p>\n<p><strong>2:30 &ndash\; 4:00 Chair: Bligh Somma</strong>&nbsp\;(Fordham)</p>\n<p><strong>D&aacute\;vid Bartha</strong>&nbsp\;(University of Milan)\,&nbsp\;<em>&ldquo\;Animals in Heaven? Divine Justice\, Immortality\, and</em></p>\n<p><em>Animal Ethics in 18th-Century British Thought&rdquo\;</em></p>\n<p><strong>Margaret Matthews</strong>&nbsp\;(Assumption)\,&nbsp\;<em>&ldquo\;Gabrielle Suchon on Curiosity&rdquo\;</em></p>\n<p><em><br></em></p>\n<p><strong>4:15 &ndash\; 5:15 Chair: Andrew Chignell</strong>&nbsp\;(Princeton)</p>\n<p><strong>Samuel Newlands</strong>&nbsp\;(Notre Dame)\,&nbsp\;<em>&ldquo\;Spinoza as Idealist\, Acosmist\, Pantheist"</em></p>\n<p><em><br></em></p>\n<p><em><br></em></p>\n<p><strong>Sunday\, May 31&nbsp\;</strong><strong>&mdash\; Lowenstein\, 12th Floor Lounge</strong></p>\n<p><strong><br></strong></p>\n<p><strong>10:00 &ndash\; 11:00 Chair: Haley Brennan</strong>&nbsp\;(NYU)</p>\n<p><strong>Kathryn Tabb</strong>&nbsp\;(Bard)\,&nbsp\;<em>&ldquo\;Does Locke Have Any Good Ideas?&rdquo\;</em></p>\n<p><em><br></em></p>\n<p><strong>11:15 &ndash\; 12:45 Chair: Don Garrett</strong>&nbsp\;(NYU)</p>\n<p><strong>Charles Goldhaber&nbsp\;</strong>(University of Florida)\,&nbsp\;<em>&ldquo\;Mechanisms for Hume&rsquo\;s Skepticism&rdquo\;</em></p>\n<p><strong>Nir Ben-Moshe&nbsp\;</strong>(University of Illinois Urbana-Champaign)\,&nbsp\;<em>&ldquo\;Did Smith Commit the Moralistic</em></p>\n<p><em>Fallacy?&rdquo\;</em></p>\n<p><em><br></em></p>\n<p><strong>12:45 &ndash\; 2:15: Lunch</strong></p>\n<p><strong><br></strong></p>\n<p><strong>2:15 &ndash\; 3:45 Chair: Anja Jauernig</strong>&nbsp\;(NYU)</p>\n<p><strong>Noam Hoffer&nbsp\;</strong>(Bar-Ilan)\,&nbsp\;<em>&ldquo\;Richard Price&rsquo\;s Modal Proof for the Existence of God&rdquo\;</em></p>\n<p><strong>Davide Dalla Rosa&nbsp\;</strong>(Trier University) and<strong>&nbsp\;Lewis Wang</strong>&nbsp\;(Boston University)\,&nbsp\;<em>&ldquo\;Kant&rsquo\;s Theory of</em></p>\n<p><em>Meaning&rdquo\;</em></p>\n<p><em><br></em></p>\n<p><strong>4:00 &ndash\; 4:45 Desmond Hogan</strong>&nbsp\;(Princeton)</p>\n<p><strong>Marius Stan</strong>&nbsp\;(Boston College)\,&nbsp\;<em>&ldquo\;Kant&rsquo\;s Account of Mathematizing Nature&rdquo\;</em></p>
ORGANIZER;CN=Reed Winegar;CN=Lauren Kopajtic;CN=Ohad Nachtomy:
METHOD:PUBLISH
END:VEVENT
END:VCALENDAR
