BEGIN:VCALENDAR
PRODID:-//Grails iCalendar plugin//NONSGML Grails iCalendar plugin//EN
VERSION:2.0
CALSCALE:GREGORIAN
METHOD:PUBLISH
BEGIN:VEVENT
DTSTAMP:20260422T175230Z
DTSTART;TZID=America/New_York:20260201T234500
DTEND;TZID=America/New_York:20260201T234500
SUMMARY:16th New York City Workshop in Early Modern Philosophy
UID:20260427T035200Z-iCalPlugin-Grails@philevents-web-6b96c54f56-bljdq
TZID:America/New_York
LOCATION:Fordham University Lincoln Center\, New York\, United States
DESCRIPTION:<p>Please submit anonymized abstracts of 350-500 words to newyorkcityearlymodern@gmail.com by February 1st\, 2026. Submissions in any area of early modern philosophy (roughly 1600-1800) are welcome.</p>
ORGANIZER;CN=Reed Winegar;CN=Lauren Kopajtic;CN=Ohad Nachtomy:
METHOD:PUBLISH
END:VEVENT
END:VCALENDAR
