BEGIN:VCALENDAR
PRODID:-//Grails iCalendar plugin//NONSGML Grails iCalendar plugin//EN
VERSION:2.0
CALSCALE:GREGORIAN
METHOD:PUBLISH
BEGIN:VEVENT
DTSTAMP:20260425T142357Z
DTSTART;TZID=Europe/Berlin:20260131T230000
DTEND;TZID=Europe/Berlin:20260131T230000
SUMMARY:Workshop: Autonomy & Algorithms (11-12 June 2026\, Karlsruhe)
UID:20260427T113058Z-iCalPlugin-Grails@philevents-web-6b96c54f56-bljdq
TZID:Europe/Berlin
LOCATION:Karlsruhe\, Germany
DESCRIPTION:<p>Call for Papers (Karlsruhe\, Deadline:&nbsp\;31.01.2026)</p>\n<p>Workshop:&nbsp\;Autonomy &amp\; Algorithms&nbsp\;</p>\n\n<p>As algorithms shape the choices we make\, traditional assumptions about autonomy and deliberation come under pressure. By curating what is visible\, relevant\, or recommended\, algorithmic outputs play a formative role in human deliberation and action. These developments raise well-known yet unresolved philosophical questions: What does it mean to act and think autonomously in contexts mediated by algorithms? How do algorithmic environments affect inquiry or deliberation? What are the implications for democratic autonomy? Furthermore\, how are we to assess all this normatively?</p>\n<p>This workshop aims to examine these issues within the frameworks of philosophy of autonomy\, ethics of AI\, social epistemology\, and political philosophy. We welcome contributions that address conceptual foundations\, engage in normative evaluation\, analyze epistemic dynamics in algorithmic environments\, and reflect on their institutional or societal implications.</p>\n\n<p>Topics of interest include\, but are not limited to:</p>\n<ul>\n<li>Conceptual analysis of&nbsp\;autonomy&nbsp\;under algorithmic influence</li>\n<li>Epistemic autonomy and algorithmic recommendation systems</li>\n<li>Responsibility gaps and distributed agency</li>\n<li>Algorithmic nudging\, manipulation\, and consent</li>\n<li>Autonomy in surveillance and data-intensive environments</li>\n</ul>\n<p>We welcome submissions from analytic philosophy broadly construed (ethics\, political philosophy\, philosophy of mind\, philosophy of technology\, epistemology\, AI ethics)\, as well as adjacent disciplines with strong philosophical engagement.We invite submissions from researchers at all career levels\, especially from early-career scholars and doctoral candidates. Funding is available to cover travel and accommodation costs for those whose abstract is accepted.&nbsp\;</p>\n<p>Submission details</p>\n<p>Please submit an&nbsp\;extended abstract (800&ndash\;1000&nbsp\;words)&nbsp\;as a&nbsp\;PDF suitable for anonymous review&nbsp\;to&nbsp\;alina.jacobs@kit.edu&nbsp\;by&nbsp\;31.01.2026. Notification of acceptance will be sent by&nbsp\;16.02.2026.</p>\n<p>Practical Information</p>\n<p>The workshop will take place&nbsp\;from 11.06.2026 to 12.06.2026&nbsp\;at the&nbsp\;Karlsruhe Institute of Technology (KIT) and is organized within the DFG project "The Ethics of State Mass Surveillance". Invited speakers who have confirmed their participation include Simona Chiodo\, Keith Harris\, Nicola M&ouml\;&szlig\;ner\, Carina Prunkl\, and Otto Sahlgren.</p>\n<p>Organizers: Alina Jacobs &amp\; Christian Seidel&nbsp\;</p>\n<p>For inquiries\, please contact the organizers via&nbsp\;alina.jacobs@kit.edu.</p>\n\n<p>Modus: Pr&auml\;senzveranstaltung</p>\n<p>Veranstaltungszeitraum:&nbsp\;11.06.2026-12.06.2026</p>\n<p>Kontaktadresse:&nbsp\;alina.jacobs@kit.edu</p>\n<p>Bewerbungsfrist:&nbsp\;31.01.2026</p>\n\n
ORGANIZER;CN=Alina Jacobs;CN=Christian Seidel:
METHOD:PUBLISH
END:VEVENT
END:VCALENDAR
