BEGIN:VCALENDAR
PRODID:-//Grails iCalendar plugin//NONSGML Grails iCalendar plugin//EN
VERSION:2.0
CALSCALE:GREGORIAN
METHOD:PUBLISH
BEGIN:VEVENT
DTSTAMP:20260420T153435Z
DTSTART;TZID=America/New_York:20260513T090000
DTEND;TZID=America/New_York:20260514T170000
SUMMARY:Indigenous Philosophy in Conversation with V.F. Cordova
UID:20260421T002732Z-iCalPlugin-Grails@philevents-web-f5d4878dd-nv7xt
TZID:America/New_York
LOCATION:Gilman Hall\, Baltimore\, United States
DESCRIPTION:<p>A workshop revisiting Viola Cordova&rsquo\;s landmark book\, <em>How It Is.&nbsp\; </em>We will have papers from ten scholars of American Indian philosophy as well as roundtable discussions.&nbsp\; Registration is free but required.&nbsp\; To register email <a href="mailto:connolly@jhu.edu">connolly@jhu.edu</a>.</p>
ORGANIZER;CN=Patrick J. Connolly;CN=Joseph Len Miller;CN=Getty Lustila;CN=Janella Baxter:
METHOD:PUBLISH
END:VEVENT
END:VCALENDAR
