BEGIN:VCALENDAR
PRODID:-//Grails iCalendar plugin//NONSGML Grails iCalendar plugin//EN
VERSION:2.0
CALSCALE:GREGORIAN
METHOD:PUBLISH
BEGIN:VEVENT
DTSTAMP:20260421T225915Z
DTSTART;TZID=Asia/Shanghai:20260531T000000
DTEND;TZID=Asia/Shanghai:20260531T000000
SUMMARY:30th Annual Conference of Chinese Society for Phenomenology
UID:20260424T172748Z-iCalPlugin-Grails@philevents-web-6b96c54f56-bljdq
TZID:Asia/Shanghai
LOCATION:59 Zhongguancun Street\, Beijing\, China\, 100872
DESCRIPTION:<v:shapetype\n id="_x0000_t75" coordsize="21600\,21600" o:spt="75" o:preferrelative="t"\n path="m@4@5l@4@11@9@11@9@5xe" filled="f" stroked="f">\n \n \n  \n  \n  \n  \n  \n  \n  \n  \n  \n  \n  \n  \n \n \n \n<v:shape id="图片_x0020_1" o:spid="_x0000_s2050" type="#_x0000_t75"\n alt="RCU  logo" style='position:absolute\;left:0\;text-align:left\;margin-left:88.4pt\;\n margin-top:-41.85pt\;width:264.55pt\;height:39.2pt\;z-index:-251657216\;\n visibility:visible\;mso-wrap-style:square\;mso-wrap-distance-left:9pt\;\n mso-wrap-distance-top:0\;mso-wrap-distance-right:9pt\;\n mso-wrap-distance-bottom:0\;mso-position-horizontal:absolute\;\n mso-position-horizontal-relative:text\;mso-position-vertical:absolute\;\n mso-position-vertical-relative:text'>\n <v:imagedata src="file:///C:/Users/liuzi/AppData/Local/Temp/msohtmlclip1/01/clip_image001.png"\n  o:title="RCU  logo"/>\n<em>Call for Abstracts/ Papers</em>\n<p><strong>30th Annual Conference of Chinese Society for Phenomenology</strong></p>\n<p><strong>September 11</strong><strong>&ndash\;14\, 2026</strong><strong> </strong></p>\n<p><strong>Beijing\, China</strong></p>\n<p>The 30th Annual Conference on Chinese Phenomenology will be held in Beijing from September 11 to 14\, 2026. The conference is organized by the Chinese Society for Phenomenology and hosted by the School of Philosophy and the Institute of Foreign Philosophy at Renmin University of China.</p>\n\n<p><strong>About the Conference</strong></p>\n\n<p>From its inception\, phenomenology has sought to return to experience in order to clarify the structures through which meaning is constituted. At the same time\, its sustained responsiveness to historical and scientific developments has ensured that phenomenology has never been isolated from the problems of its time. In the contemporary context&mdash\;shaped by the pervasive influence of artificial intelligence\, digital media\, the life sciences\, and computational technologies&mdash\;experience itself appears to be undergoing significant transformations. Technologies do not merely introduce new objects of experience\; they reconfigure the very modes through which the world is disclosed and rendered intelligible.</p>\n\n<p>These transformations raise pressing philosophical questions for phenomenology. How should phenomenological analyses respond to technologically mediated forms of experience? What conceptual resources does phenomenology offer for understanding shifting relations between technology\, embodiment\, agency\, and meaning? And how can phenomenology situate itself within ongoing debates in analytic philosophy\, the philosophy of technology\, and the sciences\, without relinquishing its distinctive methodological commitments?</p>\n\n<p>Against this background\, the conference\, devoted to the theme &ldquo\;Phenomenology: Technology and the Humanities\,&rdquo\; seeks to provide an open forum for critical reflection on the role of phenomenology in the technological age\, as well as for a renewed assessment of its distinctive contributions to contemporary philosophy and interdisciplinary research at the intersection of the humanities and technology.</p>\n\n<p><strong>Topics of Interest</strong></p>\n<p><strong>&nbsp\;</strong></p>\n<p>The conference welcomes contributions on phenomenology broadly construed. Topics include\, but are not limited to:</p>\n<p>l&nbsp\; Classical questions and figures in phenomenology</p>\n<p>l&nbsp\; Contemporary developments and new directions in phenomenological research</p>\n<p>l&nbsp\; Phenomenology and analytic philosophy</p>\n<p>l&nbsp\; Phenomenology and artificial intelligence</p>\n<p>l&nbsp\; Phenomenology and recent developments in the humanities</p>\n<p>l&nbsp\; Chinese phenomenology in historical and systematic perspectives</p>\n\n<p>This conference provides a distinctive forum for engaging with these critical issues. Alongside contributions from scholars working across diverse areas of phenomenology\, the conference will feature participation from a number of internationally recognized researchers\, including:</p>\n<p><strong>Andrea Altobrando</strong> (University of Padua\, Italy)</p>\n<p><strong>Claudie Majolino (</strong>Universit&eacute\; de Lille\, France)</p>\n<p><strong>Dachun Yang </strong>(Zhejiang University)</p>\n<p><strong>Daniele De Santis</strong> (Charles University\, Czech)</p>\n<p><strong>Genki Uemura </strong>(Okayama University\, Japan)</p>\n<p><strong>Georg Stenger</strong> (University of Vienna\, Austria)</p>\n<p><strong>Jocelyn Benoist</strong> (Universit&eacute\; Paris 1 Panth&eacute\;on-Sorbonne\, France)</p>\n<p><strong>Jun Wang</strong> (Zhejiang University)</p>\n<p><strong>Katsunori Miyahara </strong>(Hokkaido University\, Japan)</p>\n<p><strong>Keith Crome</strong> (President of the British Society for Phenomenology\; Manchester Metropolitan University\, UK)</p>\n<p><strong>Liangkang Ni</strong> (Zhejiang University)</p>\n<p><strong>Lilian Alweiss </strong>(Trinity College Dublin\, Ireland)</p>\n<p><strong>Nicolas de Warren</strong> (Pennsylvania State University\, USA)</p>\n<p><strong>Qingjie Wang </strong>(University of Macau)</p>\n<p><strong>Shigeru Taguchi </strong>(Hokkaido University\, Japan)</p>\n<p><strong>Wei Zhang</strong> (Sun Yat-sen University)</p>\n<p><strong>Xiaowen Chen </strong>(Shandong University)</p>\n<p><strong>Xiping Jin </strong>(Peking University)</p>\n<p><strong>Zengding Wu</strong> (Peking University)</p>\n<p><strong>Zhiwei Zhang </strong>(Renmin University of China)</p>\n<p><strong>Zhouxing Sun </strong>(Zhejiang University)</p>\n<p>......<em>List is being updated</em>.</p>\n\n<p>Further submissions from researchers worldwide are very welcome.</p>\n\n<p><strong>Submission Guidelines</strong></p>\n\n<p>Participants are invited to submit either a full paper or an extended abstract (in WORD format) by May 31\, 2026\, to: <strong>phenomenology2026@126.com</strong></p>\n\n<p>Submissions should include:</p>\n<p>1.&nbsp\;&nbsp\;&nbsp\;&nbsp\;&nbsp\;&nbsp\;&nbsp\;&nbsp\; Title of the paper</p>\n<p>2.&nbsp\;&nbsp\;&nbsp\;&nbsp\;&nbsp\;&nbsp\;&nbsp\;&nbsp\; Author&rsquo\;s name</p>\n<p>3.&nbsp\;&nbsp\;&nbsp\;&nbsp\;&nbsp\;&nbsp\;&nbsp\;&nbsp\; Institutional affiliation</p>\n<p>4.&nbsp\;&nbsp\;&nbsp\;&nbsp\;&nbsp\;&nbsp\;&nbsp\;&nbsp\; Email address</p>\n\n<p>All submissions will be peer reviewed by the Chinese Society for Phenomenology. Authors of accepted submissions will receive a formal invitation to participate in the conference. Please note that\, due to limitations of funding and conference capacity\, participation by doctoral students is limited to a maximum of 15.</p>\n\n<p><strong>Venue and Schedule</strong></p>\n\n<p>The conference will take place at Renmin University of China (Zhongguancun Campus) in Beijing.</p>\n<p>September 11: Arrival and registration</p>\n<p>September 12&ndash\;13: Conference sessions</p>\n<p>September 14 (morning): Departure</p>\n\n<p>Accommodation\, meals\, and conference materials will be covered by the organizers. Participants are responsible for their own travel expenses.</p>\n\n<p><strong>Organizing Committee</strong></p>\n<p><strong>&nbsp\;</strong></p>\n<p><strong>Haojun Zhang<br> </strong>Chair of 30th Annual Conference of the Chinese Society for Phenomenology<br> School of Philosophy\, Renmin University of China\, Beijing\, China<strong></strong></p>\n\n<p><strong>Wei Zhang</strong></p>\n<p>President of the Chinese Society for Phenomenology</p>\n<p>Department of Philosophy\, Sun Yat-sen University\, Guangzhou\, China</p>\n\n<p>January 4\, 2026</p>\n
ORGANIZER:
METHOD:PUBLISH
END:VEVENT
END:VCALENDAR
