BEGIN:VCALENDAR
PRODID:-//Grails iCalendar plugin//NONSGML Grails iCalendar plugin//EN
VERSION:2.0
CALSCALE:GREGORIAN
METHOD:PUBLISH
BEGIN:VEVENT
DTSTAMP:20260421T225915Z
DTSTART;TZID=Europe/Helsinki:20260826T090000
DTEND;TZID=Europe/Helsinki:20260828T170000
SUMMARY:15TH CONFERENCE OFTHE EUROPEAN NETWORKFOR THE PHILOSOPHY OF THE SOCIAL SCIENCES
UID:20260424T172749Z-iCalPlugin-Grails@philevents-web-6b96c54f56-bljdq
TZID:Europe/Helsinki
LOCATION:Helsinki\, Finland
ORGANIZER;CN=Petri Ylikoski;CN=Jaakko Kuorikoski;CN=N. Emrah Aydinonat:
METHOD:PUBLISH
END:VEVENT
END:VCALENDAR
