BEGIN:VCALENDAR
PRODID:-//Grails iCalendar plugin//NONSGML Grails iCalendar plugin//EN
VERSION:2.0
CALSCALE:GREGORIAN
METHOD:PUBLISH
BEGIN:VEVENT
DTSTAMP:20260420T075622Z
DTSTART;TZID=America/Los_Angeles:20260606T100000
DTEND;TZID=America/Los_Angeles:20260606T170000
SUMMARY:The Gadfly Symposium - Disruptive Pedagogies in Philosophy
UID:20260424T094650Z-iCalPlugin-Grails@philevents-web-f5d4878dd-nv7xt
TZID:America/Los_Angeles
LOCATION:Eastern Washington University\, Cheney\, United States\, 99004
DESCRIPTION:<p><strong>Call for Proposals</strong><br> <strong>The Gadfly Symposium: Disruptive Pedagogies in Philosophy</strong><br> <strong>Saturday June 6\, 2026 | Host: Eastern Washington University | Venue: EWU Cheney Campus</strong></p>\n<p>Hosted by Eastern Washington University\, <em>The Gadfly Symposium</em> invites proposals for presentations\, workshops\, and collaborative teaching demonstrations exploring innovative and disruptive pedagogical techniques in the teaching of philosophy broadly construed. Thanks to generous support from the Jeffers W. Chertok Memorial Endowed Professorship\, the Gadfly Symposium is fully funded.</p>\n<p><strong>There is no fee to register\, and lunch will be provided to all registered attendees</strong>.</p>\n<p>This year&rsquo\;s theme\, <strong>&ldquo\;Disruptive Pedagogy and the Pursuit of Human Flourishing\,&rdquo\;</strong> calls educators\, scholars\, and practitioners to reimagine how the pursuit of human flourishing might be preserved in a time when much of what once sustained it has been automated\, outsourced\, or declared obsolete?</p>\n<p>For the purposes of this program\, <em>disruptive pedagogy</em> refers to teaching that unsettles default assumptions about knowledge\, authority\, technology\, and learning. We welcome broad interpretations of disruption&mdash\;including engaged pedagogy\, transgressive pedagogy\, inquiry-based learning\, and student-centered learning&mdash\;as frameworks for rethinking how philosophical inquiry across traditions\, periods\, and subfields can provoke deeper self-reflection\, civic engagement\, and moral imagination among students.</p>\n<p>We encourage submissions from those teaching any area of philosophy\, including (but not limited to) ethics\, social and political philosophy\, philosophy of mind\, philosophy of science\, non-Western and global philosophies\, applied philosophy\, and interdisciplinary contexts. Proposals engaging diverse philosophical traditions\, contemporary issues\, or novel classroom practices are especially welcome.</p>\n<p>Disruptive pedagogy\, in this spirit\, is not only a mode of innovation in teaching but also a practice of resistance&mdash\;a way to challenge and disrupt systems that limit access to knowledge\, constrain critical inquiry\, and undergird hierarchical structures.</p>\n<p><strong>Preference will be given to proposals that:</strong></p>\n<p>&middot\; Integrate digital technologies\, such as social media\, generative AI\, or immersive learning environments\, in pedagogically creative ways.</p>\n<p><strong>AND/OR</strong></p>\n<p>&middot\; Demonstrate how disruptive pedagogy can dismantle barriers and decenter authority in ways consistent with the Socratic spirit of inquiry&mdash\;challenging assumptions\, cultivating curiosity\, and fostering philosophical dialogue across differences.</p>\n<p><strong>Submission Guidelines:</strong></p>\n<p><strong>&middot\; Travel stipends are available for presenters traveling from outside Washington and Idaho.</strong></p>\n<p>&middot\; Abstracts (500 words) should clearly describe the project&rsquo\;s objectives\, pedagogical approach\, and relevance to the symposium theme.</p>\n<p>&middot\; Include bio\, affiliation information\, and any technical requirements. (100 words max)</p>\n<p>&middot\; Send proposals to ckirby@ewu.edu by April 10\, 2026.</p>\n<p>&middot\; Notifications of acceptance will be sent by April 17\, 2026.</p>
ORGANIZER;CN=Christopher C. Kirby:
METHOD:PUBLISH
END:VEVENT
END:VCALENDAR
