BEGIN:VCALENDAR
PRODID:-//Grails iCalendar plugin//NONSGML Grails iCalendar plugin//EN
VERSION:2.0
CALSCALE:GREGORIAN
METHOD:PUBLISH
BEGIN:VEVENT
DTSTAMP:20260421T231857Z
DTSTART;TZID=Europe/Rome:20260615T090000
DTEND;TZID=Europe/Rome:20260619T170000
SUMMARY:Philosophy of AI Summer School 2026: Reasoning and Agency in AI
UID:20260424T182506Z-iCalPlugin-Grails@philevents-web-6b96c54f56-bljdq
TZID:Europe/Rome
LOCATION:Venice international University\, Venice\, Italy
DESCRIPTION:<p>Hosted by the Institute of Philosophy (University of London)\, the University of Hong Kong\, and LMU\, the 2026 Philosophy of AI Summer School offers an intensive five-day programme devoted to this year&rsquo\;s theme:&nbsp\;<em>Reasoning and Agency in AI</em>. The summer school brings together leading researchers working across philosophy and artificial intelligence to examine how emerging AI systems challenge and illuminate long-standing questions about rationality\, action\, explanation\, and decision-making.</p>\n<p>Designed primarily for PhD students\, postdocs\, and early-career researchers in philosophy\, the programme also welcomes applicants from adjacent disciplines\, qualified MA students\, and participants from industry whose work engages with the conceptual foundations of AI. Teaching consists of sessions delivered by invited instructors\, together with structured discussion\, opportunities for research feedback\, and dedicated poster sessions for participants.</p>\n<p>The Summer School will take place at the Venice International University. Sessions will run daily from approximately 9:30 a.m. to 5:30 p.m.\, with one lighter afternoon scheduled to allow attendees time to explore Venice and visit the Biennale Arte 2026.</p>
ORGANIZER;CN=Myrto Chomatianou:
METHOD:PUBLISH
END:VEVENT
END:VCALENDAR
