BEGIN:VCALENDAR
PRODID:-//Grails iCalendar plugin//NONSGML Grails iCalendar plugin//EN
VERSION:2.0
CALSCALE:GREGORIAN
METHOD:PUBLISH
BEGIN:VEVENT
DTSTAMP:20260420T215022Z
DTSTART;TZID=Europe/London:20260201T234500
DTEND;TZID=Europe/London:20260201T234500
SUMMARY:Joint Session 2026
UID:20260421T081122Z-iCalPlugin-Grails@philevents-web-6b96c54f56-bljdq
TZID:Europe/London
LOCATION:Whiteknights Campus\, Reading\, United Kingdom
DESCRIPTION:<p>There are three types of submitted presentation at the Joint Session:</p>\n<ul>\n<li>Open Sessions (approximately 30 minutes\, short abstract submission\, almost all appropriate material is accepted)\;</li>\n<li>Postgraduate Session (current and very recent graduate students\, whole paper submission\, very selective)\;</li>\n<li>Society for Women in Philosophy Session (our papers that further the aims of SWIP broadly construed\, short abstract submission).</li>\n</ul>\n
ORGANIZER;CN=Luke Elson:
METHOD:PUBLISH
END:VEVENT
END:VCALENDAR
