BEGIN:VCALENDAR
PRODID:-//Grails iCalendar plugin//NONSGML Grails iCalendar plugin//EN
VERSION:2.0
CALSCALE:GREGORIAN
METHOD:PUBLISH
BEGIN:VEVENT
DTSTAMP:20260421T213058Z
DTSTART;TZID=Europe/London:20260530T090000
DTEND;TZID=Europe/London:20260530T090000
SUMMARY:International Journal of Theology\, Philosophy and Science
UID:20260424T134541Z-iCalPlugin-Grails@philevents-web-6b96c54f56-bljdq
TZID:Europe/London
DESCRIPTION:<p>Dear Author\,</p>\n\n<p>We invite you to publish your mascript in International Journal of Theology\, Philosophy and Science.</p>\n\n<p>International Journal of Theology\, Philosophy and Science (IJTPS) is an international journal\, that accepts for publication reviewed original papers\, dedicated to the area of theology and philosophy.</p>\n<p>The International Journal of Theology\, Philosophy and Science is an Open Access Journal. Users have the right to read\, download\, copy\, distribute\, print\, search\, or link to the full text of articles.</p>\n\n<p>Author Services | IFIASA</p>\n<p>Simple and easy article submission (ifiasa@yahoo.com).</p>\n<p>Quick response after submission of article. Fast Track Review\, Fast paper publication in 2 days.&nbsp\;</p>\n<p>Digitally Signed E-Certificates. Free open access journal.</p>\n<p>Unique DOI for each article by CrossRef\, Doi: 10.26520/</p>\n<p>Article can be submitted by authors any day\, any time.</p>\n<p>Authors are expected to submit a full-length manuscript (5 pages minimum) for publication.</p>\n<p>Full Text Papers that follow the rules and are written in A+ English will be considered for publication.</p>\n\n<p>Article submission mail to ifiasa@yahoo.com&nbsp\;&nbsp\;</p>\n<p>Please let us know if you need registration for this journal.</p>\n\n<p>Sincerely\, Editorial Department IJTPS</p>
ORGANIZER:
METHOD:PUBLISH
END:VEVENT
END:VCALENDAR
