BEGIN:VCALENDAR
PRODID:-//Grails iCalendar plugin//NONSGML Grails iCalendar plugin//EN
VERSION:2.0
CALSCALE:GREGORIAN
METHOD:PUBLISH
BEGIN:VEVENT
DTSTAMP:20260422T131029Z
DTSTART;TZID=America/New_York:20261016T090000
DTEND;TZID=America/New_York:20261017T170000
SUMMARY:Buffalo Seminar in Early Modern Philosophy
UID:20260426T062923Z-iCalPlugin-Grails@philevents-web-6b96c54f56-bljdq
TZID:America/New_York
LOCATION:Buffalo\, United States
ORGANIZER;CN=Stewart Duncan:
METHOD:PUBLISH
END:VEVENT
END:VCALENDAR
