BEGIN:VCALENDAR
PRODID:-//Grails iCalendar plugin//NONSGML Grails iCalendar plugin//EN
VERSION:2.0
CALSCALE:GREGORIAN
METHOD:PUBLISH
BEGIN:VEVENT
DTSTAMP:20260422T054946Z
DTSTART;TZID=Europe/Warsaw:20260917T090000
DTEND;TZID=Europe/Warsaw:20260918T170000
SUMMARY:Philosophica II - Words and Language
UID:20260425T083350Z-iCalPlugin-Grails@philevents-web-6b96c54f56-bljdq
TZID:Europe/Warsaw
LOCATION:pl. Marii Curie-Skłodowskiej 4\, Lublin\, Poland\, 20-031
DESCRIPTION:<p><strong>Philosophica</strong> is an analytic philosophy conference series hosted by the Institute of Philosophy at Maria Curie-Skłodowska University. The theme of this edition of the conference is <strong>words and language</strong>\, engaging with philosophical work addressing the nature of expressions\, meaning\, and natural language more broadly construed.</p>\n<p>We invite contributions on topics like the ontology of words\, word individuation\, pragmatic features of expressions\, meaning in natural language (metasemantics)\, or the relationship between words and language\, among others.</p>\n<p>Topics broadly related to natural language are welcome\; contributions do not need to place special emphasis on words as such\, though this is welcome.</p>\n<p>Interdisciplinary perspectives drawing on linguistics\, semantics\, metaphysics\, and other relevant areas are also welcome.</p>\n<p>The event will take place <strong>exclusively in person</strong>\; it is open to both regular faculty and students.</p>\n<p>The conference will run from 17/09/2026 to 18/09/2026.&nbsp\;</p>\n<p>Submissions through EasyChair (see also our CFP for details):&nbsp\;<a  href="https://easychair.org/conferences/?conf=philosophica2"  target="_blank">https://easychair.org/conferences/?conf=philosophica2</a></p>
ORGANIZER;CN=Kamil Lemanek:
METHOD:PUBLISH
END:VEVENT
END:VCALENDAR
