BEGIN:VCALENDAR
PRODID:-//Grails iCalendar plugin//NONSGML Grails iCalendar plugin//EN
VERSION:2.0
CALSCALE:GREGORIAN
METHOD:PUBLISH
BEGIN:VEVENT
DTSTAMP:20260424T185848Z
DTSTART;TZID=America/New_York:20260609T090000
DTEND;TZID=America/New_York:20260610T170000
SUMMARY:Metaphysics Colloquium: Apologetics and the Rathional Defense of the Tenets of Christian Faith
UID:20260425T221456Z-iCalPlugin-Grails@philevents-web-6b96c54f56-bljdq
TZID:America/New_York
LOCATION:100 Saint Anselm Drive\, Manchester\, United States
ORGANIZER:
METHOD:PUBLISH
END:VEVENT
END:VCALENDAR
