BEGIN:VCALENDAR
PRODID:-//Grails iCalendar plugin//NONSGML Grails iCalendar plugin//EN
VERSION:2.0
CALSCALE:GREGORIAN
METHOD:PUBLISH
BEGIN:VEVENT
DTSTAMP:20260420T043157Z
DTSTART;TZID=Europe/Prague:20260518T093000
DTEND;TZID=Europe/Prague:20260519T170000
SUMMARY:EMW XIV: Aesthetic Attention
UID:20260423T191631Z-iCalPlugin-Grails@philevents-web-f5d4878dd-nv7xt
TZID:Europe/Prague
LOCATION:Husova 4\, Praha\, Czech Republic\, 110 00
DESCRIPTION:<p>We cordially invite submissions for the 14th&nbsp\;Ernst Mach Workshop\, which will focus on the role of aesthetic attention in shaping aesthetic experience and cognitive engagement with the world. The workshop aims to explore how aesthetic attention works and how it influences the appreciation of art and nature\, examining its interplay with perception\, emotion\, and cognitive states. Particular emphasis will be given to modes of aesthetic attention across a range of artistic genres\, including painting\, sculpture\, photography\, literature and music\, as well as conceptual art and even AI-generated art.&nbsp\;</p>\n<p>Contributions are welcome from scholars working in aesthetics and the philosophy of mind\, as well as from cognitive scientists\, experimental psychologists and neuroscientists. There is no registration fee for the event.&nbsp\;</p>\n<p>Submission deadline:&nbsp\;<strong>March 20\, 2026</strong>. Submission portal for anonymized 300-word abstracts:&nbsp\;https://emw14.sciencesconf.org/</p>\n<p>Inquiries at&nbsp\;emw@flu.cas.cz</p>
ORGANIZER;CN=Juraj Hvorecky;CN=Tomas Marvan;CN=Tomas Koblizek:
METHOD:PUBLISH
END:VEVENT
END:VCALENDAR
