BEGIN:VCALENDAR
PRODID:-//Grails iCalendar plugin//NONSGML Grails iCalendar plugin//EN
VERSION:2.0
CALSCALE:GREGORIAN
METHOD:PUBLISH
BEGIN:VEVENT
DTSTAMP:20260420T015231Z
DTSTART;TZID=Europe/Istanbul:20260628T090000
DTEND;TZID=Europe/Istanbul:20260703T170000
SUMMARY:'Sex between Law and Morality' IVR Special Workshop
UID:20260423T080523Z-iCalPlugin-Grails@philevents-web-f5d4878dd-nv7xt
TZID:Europe/Istanbul
LOCATION:İstanbul\, Turkey
ORGANIZER;CN=Maciej Juzaszek;CN="Karolina Śliwecka";CN=Klaudyna Horniczak:
METHOD:PUBLISH
END:VEVENT
END:VCALENDAR
