BEGIN:VCALENDAR
PRODID:-//Grails iCalendar plugin//NONSGML Grails iCalendar plugin//EN
VERSION:2.0
CALSCALE:GREGORIAN
METHOD:PUBLISH
BEGIN:VEVENT
DTSTAMP:20260420T164514Z
DTSTART;TZID=Europe/Berlin:20260429T140000
DTEND;TZID=Europe/Berlin:20260429T170000
SUMMARY:Author meets critics: Corey W. Dyck\, Wolff and the First Fifty Years of German Metaphysics
UID:20260421T035739Z-iCalPlugin-Grails@philevents-web-f5d4878dd-nv7xt
TZID:Europe/Berlin
LOCATION:Franckeplatz 1\, Haus 54\, Halle\, Germany\, 06110
ORGANIZER;CN=Frank Grunert:
METHOD:PUBLISH
END:VEVENT
END:VCALENDAR
