BEGIN:VCALENDAR
PRODID:-//Grails iCalendar plugin//NONSGML Grails iCalendar plugin//EN
VERSION:2.0
CALSCALE:GREGORIAN
METHOD:PUBLISH
BEGIN:VEVENT
DTSTAMP:20260419T145720Z
DTSTART;TZID=Australia/Melbourne:20260529T140000
DTEND;TZID=Australia/Melbourne:20260529T153000
SUMMARY:Tba
UID:20260420T221100Z-iCalPlugin-Grails@philevents-web-f5d4878dd-nv7xt
TZID:Australia/Melbourne
LOCATION:Monash Clayton Campus\, Melbourne\, Australia
DESCRIPTION:<p>Join Zoom meeting:</p>\n<p>https://monash.zoom.us/j/86351045263?pwd=1gHMLhmDnXiFJIV0Jl8s6GxhgBgylb.1&nbsp\;</p>\n<p>Meeting ID: 863 5104 5263 // Passcode: 184791</p>
ORGANIZER;CN=Sandra Leonie Field:
METHOD:PUBLISH
END:VEVENT
END:VCALENDAR
