BEGIN:VCALENDAR
PRODID:-//Grails iCalendar plugin//NONSGML Grails iCalendar plugin//EN
VERSION:2.0
CALSCALE:GREGORIAN
METHOD:PUBLISH
BEGIN:VEVENT
DTSTAMP:20260420T093914Z
DTSTART;TZID=America/Halifax:20260606T090000
DTEND;TZID=America/Halifax:20260606T170000
SUMMARY:Canadian Society of Christian Philosophers 2026 Meeting
UID:20260424T175042Z-iCalPlugin-Grails@philevents-web-f5d4878dd-nv7xt
TZID:America/Halifax
LOCATION:Halifax\, Canada
ORGANIZER;CN=Daniel Rubio;CN=KIaas Kraay:
METHOD:PUBLISH
END:VEVENT
END:VCALENDAR
