BEGIN:VCALENDAR
PRODID:-//Grails iCalendar plugin//NONSGML Grails iCalendar plugin//EN
VERSION:2.0
CALSCALE:GREGORIAN
METHOD:PUBLISH
BEGIN:VEVENT
DTSTAMP:20260420T124353Z
DTSTART;TZID=America/New_York:20260425T090000
DTEND;TZID=America/New_York:20260425T170000
SUMMARY:Thinking with Machines: Artificial Intelligence\, Cognition\, and Responsibility
UID:20260420T160435Z-iCalPlugin-Grails@philevents-web-f5d4878dd-nv7xt
TZID:America/New_York
LOCATION:Richmond\, United States
DESCRIPTION:<p>The Department of Philosophy at Virginia Commonwealth University invites submissions for <strong>Thinking with Machines</strong>\, a one-day philosophy conference focused on contemporary work in the philosophy of artificial intelligence. While the conference engages issues at the intersection of philosophy\, psychology\, and cognitive science\, it is primarily intended for philosophers working on AI and closely related topics.</p>\n<p>The conference will be anchored by a <strong>public keynote lecture by Helen Nissenbaum (Cornell Tech)</strong>\, whose work on privacy and contextual integrity has been foundational in philosophy of technology and AI ethics.</p>\n<p>We invite submissions in all areas of philosophy of AI\, including (but not limited to):</p>\n<ul>\n<li>\n<p>Artificial intelligence and theories of mind or cognition</p>\n</li>\n<li>\n<p>Trust\, explanation\, and epistemic authority in AI systems</p>\n</li>\n<li>\n<p>Privacy\, surveillance\, and contextual integrity</p>\n</li>\n<li>\n<p>Moral agency\, responsibility\, and accountability in automated systems</p>\n</li>\n<li>\n<p>Ethical\, political\, and social philosophy of AI</p>\n</li>\n<li>\n<p>Short-term and long-term risks and benefits of AI</p>\n</li>\n</ul>
ORGANIZER:
METHOD:PUBLISH
END:VEVENT
END:VCALENDAR
