BEGIN:VCALENDAR
PRODID:-//Grails iCalendar plugin//NONSGML Grails iCalendar plugin//EN
VERSION:2.0
CALSCALE:GREGORIAN
METHOD:PUBLISH
BEGIN:VEVENT
DTSTAMP:20260420T220057Z
DTSTART;TZID=Europe/London:20260629T090000
DTEND;TZID=Europe/London:20260630T170000
SUMMARY:“Tracing Genealogy” — Warwick Continental Philosophy Conference 2026
UID:20260421T091509Z-iCalPlugin-Grails@philevents-web-6b96c54f56-bljdq
TZID:Europe/London
LOCATION:Coventry\, United Kingdom\, CV4 7AL
DESCRIPTION:<p>Within Continental philosophy\, genealogy is most associated with <strong>Nietzsche&rsquo\;s </strong>critical historicisations and/or psychologisations of our moral practices and beliefs&mdash\;and with <strong>Foucault&rsquo\;s</strong> subsequent &lsquo\;histories of the present&rsquo\; investigations into the contingent development of contemporary institutions and the discourses surrounding them. However\, the notion of genealogy is not confined to the Nietzschean tradition. David Hume&rsquo\;s &lsquo\;experimental&rsquo\; enquiries into the origins of our religious and causal beliefs&mdash\;offering more traditional debunking arguments&mdash\;are also increasingly considered to come under its methodological umbrella.</p>\n<p>Conversely\, <strong>Bernard Williams</strong>\, drawing on Locke and Hobbes\, develops a <em>vindicatory</em> form of genealogy that seeks to legitimate our existing ethical virtues by uncovering the <em>genuine</em> moral and political needs they address. More recently\, Julian Ratcliffe has labelled a strand of contemporary Anglophone work&mdash\;associated with figures such as Brandom\, Dutilh Novaes\, and Queloz&mdash\;<em>rationalising genealogy</em>. This approach seeks to uncover normative commitments latent within existing conceptual resources\, thereby connecting genealogy to themes of Hegelian reconciliation and Carnapian conceptual engineering.</p>\n<p>The conference aims to bring together work that examines genealogical approaches and the fundamental questions they raise about critique\, normativity\, historical explanation\, and philosophical method\, highlighting their continuing importance across Continental and Anglophone philosophy.</p>\n<p><em>&nbsp\;</em></p>\n<p>For detailed information and further instruction\, please visit: <a href="https://warwick.ac.uk/fac/soc/philosophy/research/activities/postkantian/events/wcpc/">https://warwick.ac.uk/fac/soc/philosophy/research/activities/postkantian/events/wcpc/</a></p>\n<p>For any enquiries\, please contact: <a href="mailto:wcpc@warwick.ac.uk">wcpc@warwick.ac.uk</a>.</p>\n<p>The WCPC is an annual event within The Centre for Research in Post-Kantian European Philosophy (University of Warwick). The conference complies with the BPA/SWIP guidelines for accessible conferences\, the BPA/SWIP good practice scheme for gender equality\, and the BPA environmental travel scheme (ETS).</p>
ORGANIZER;CN=Rozemin Keshvani;CN=Keyu Qiu;CN=Oscar Crocker;CN=Shifan Zhou;CN=Sam Ronalds:
METHOD:PUBLISH
END:VEVENT
END:VCALENDAR
