BEGIN:VCALENDAR
PRODID:-//Grails iCalendar plugin//NONSGML Grails iCalendar plugin//EN
VERSION:2.0
CALSCALE:GREGORIAN
METHOD:PUBLISH
BEGIN:VEVENT
DTSTAMP:20260421T213227Z
DTSTART;TZID=Europe/London:20261101T230000
DTEND;TZID=Europe/London:20261101T230000
SUMMARY:Humans in Nature. Perspectives from Classical German Philosophy\, «Thaumàzein»\, Vol. 16\, Issue 2\, 2027
UID:20260424T134828Z-iCalPlugin-Grails@philevents-web-6b96c54f56-bljdq
TZID:Europe/London
DESCRIPTION:<p><strong>Thaum&agrave\;zein\, Vol. 16\, Issue 2\, 2027<br></strong>Humans in Nature.&nbsp\;</a>Perspectives from Classical German Philosophy</a><br>Edited by Giulia Battistoni &amp\; Michael Quante<br>deadline:&nbsp\;<strong>March 31\, 2027</strong>&nbsp\;(title &amp\; abstract:&nbsp\;<strong>November 1\, 2026</strong>)&nbsp\;</p>\n<p><strong>Call for Abstracts</strong></p>\n<p>Contemporary discussions of nature mainly take place within a field marked by the dominance of models grounded in technology and the natural sciences. However\, we also observe growing philosophical efforts to develop non-reductionist alternatives. Classical German Philosophy can be understood as contributing important conceptual resources to this second trajectory. Rather than conceiving human beings as external observers or masters of nature\, this tradition develops models of the human-nature relation that emphasize organic continuity\, mediation\, and purposiveness\, while also accounting for specifically human forms of reflexivity\, freedom\, and social practice. In this sense\, Kant\, Goethe\, Schiller\, Fichte\, Schelling\, Hegel\, Feuerbach\, and Marx articulate a family of approaches that remain systematically relevant today\, insofar as they challenge reductionist paradigms and offer alternative ways of conceptualizing the human-nature relation and technological mediation.</p>\n<p>From Kant and Fichte onward\, nature is no longer understood merely as a mechanical domain\, but also\, as e.g. Schelling has emphasized\, as the site of purposiveness and living organization. Goethe&rsquo\;s morphological thinking\, being in the background\, exemplifies this shift by conceiving natural and human forms as dynamic processes of transformation and self-formation. In Hegel\, the relation between nature (<em>Natur</em>) and spirit (<em>Geist</em>) is further articulated within an organic and developmental framework. At the same time\, it remains controversial whether and how biological human embodiment is thematized at the transition from Hegel&rsquo\;s Philosophy of Nature to his Anthropology. These debates point to broader ontological questions concerning the structural relation between human beings and nature\, which become a main topic in Ludwig Feuerbach&rsquo\;s philosophical anthropology.</p>\n<p>A complementary perspective emerges in Marx\, whose metaphor of social metabolism (<em>Stoffwechsel</em>) conceptualizes human labor as a mediating process that both embeds social practice within natural cycles and transforms them. This framework is particularly relevant for understanding technologically mediated forms of production\, addressing both the instrumentalization of nature and the ecological consequences of capitalist social relations.</p>\n<p>This special issue of Thaum&agrave\;zein invites contributions that systematically investigate the human-nature relation in light of the resources offered by Classical German Philosophy. We welcome papers that address this relation from aesthetic\, ethical\, epistemological\, anthropological\, and ontological viewpoints\, as well as contributions that explore its contemporary relevance integrating an interdisciplinary perspective.</p>\n<p><strong>Invited contributors<br></strong>Carl Friedrich Gethmann (Universit&auml\;t M&uuml\;nster)<br>Cristian Loos (Universit&auml\;t G&ouml\;ttingen)</p>\n<p>Francesca Iannelli (Universit&agrave\; Roma Tre)</p>\n<p>Paola Giacomoni (Universit&agrave\; di Trento)</p>\n\n<p>Submission of the title and short abstract (4.000 characters max.\, in English\, Italian or German):&nbsp\;<strong>November 1\, 2026</strong>&nbsp\;to the editors:<br>Giulia Battistoni (<a href="mailto:giulia.battistoni.90@gmail.com">giulia.battistoni.90@gmail.com</a>)<br>Michael Quante (michael.quante@uni-muenster.de)</p>\n<p>Submission of full text (<strong>35.000 characters max. spaces included</strong>\, in English\, Italian or German):&nbsp\;<strong>March 31\, 2027</strong>&nbsp\;through OJS platform:&nbsp\;<a href="https://rivista.thaumazein.it/index.php/thaum/about/submissions">https://rivista.thaumazein.it/index.php/thaum/about/submissions</a>.</p>\n<p>Please follow the formatting guidelines for authors:&nbsp\;<a href="https://www.thaumazein.it/la-rivista/about-the-journal/formatting-guidelines/">https://www.thaumazein.it/la-rivista/about-the-journal/formatting-guidelines/</a></p>\n<p>Scheduled publication of the volume: December 2027.</p>\n
ORGANIZER:
METHOD:PUBLISH
END:VEVENT
END:VCALENDAR
