BEGIN:VCALENDAR
PRODID:-//Grails iCalendar plugin//NONSGML Grails iCalendar plugin//EN
VERSION:2.0
CALSCALE:GREGORIAN
METHOD:PUBLISH
BEGIN:VEVENT
DTSTAMP:20260420T074300Z
DTSTART;TZID=America/Indiana/Indianapolis:20260501T000000
DTEND;TZID=America/Indiana/Indianapolis:20260502T170000
SUMMARY:17th Annual Notre Dame/Northwestern Graduate Epistemology Conference
UID:20260424T091018Z-iCalPlugin-Grails@philevents-web-f5d4878dd-nv7xt
TZID:America/Indiana/Indianapolis
LOCATION:Notre Dame\, United States
DESCRIPTION:<p>This is a graduate conference in epistemology. It will be held in-person at the University of Notre Dame.</p>\n<p>If you wish to attend the conference\, please register at the available link by April 30th. If you wish to partake in the food\, please make sure to register by the 20th.</p>
ORGANIZER;CN=James Reilly;CN=Ginny Hannahan;CN=Noam Weinreich:
METHOD:PUBLISH
END:VEVENT
END:VCALENDAR
