BEGIN:VCALENDAR
PRODID:-//Grails iCalendar plugin//NONSGML Grails iCalendar plugin//EN
VERSION:2.0
CALSCALE:GREGORIAN
METHOD:PUBLISH
BEGIN:VEVENT
DTSTAMP:20260420T092643Z
DTSTART;TZID=America/Indiana/Indianapolis:20260310T050000
DTEND;TZID=America/Indiana/Indianapolis:20260310T050000
SUMMARY:17th Annual Notre Dame/Northwestern Graduate Epistemology Conference
UID:20260424T164837Z-iCalPlugin-Grails@philevents-web-f5d4878dd-nv7xt
TZID:America/Indiana/Indianapolis
LOCATION:Notre Dame\, United States
DESCRIPTION:<p>The organizers are excited to announce that the annual Notre Dame/Northwestern Graduate Epistemology Conference will be held April 30-May 2\, 2026\, at the University of Notre Dame (in-person only).&nbsp\;The keynote speaker this year will be John Greco (Georgetown University).</p>\n<p>We welcome submissions from graduate students on any topic in epistemology\, broadly construed. Papers should be no more than 4000 words (approx. 13 pages)\, excluding notes. Papers should be prepared for blind review and sent to Noam Weinreich at noamweinreich2028@u.northwestern.edu. In your email\, please also include a separate cover page with the paper&rsquo\;s title\, an abstract of no more than 200 words\, as well as the author&rsquo\;s name\, institutional affiliation\, email address\, and phone number.</p>\n<p>Papers must be received no later than March 10\, 2026. Questions regarding paper submissions may be directed to Noam Weinreich (noamweinreich2028@u.northwestern.edu)&nbsp\;and questions regarding conference location or schedule\, etc.\, may be directed to James Reilly (jreill24@nd.edu) and/or Ginny Hannahan (vhannaha@nd.edu).</p>
ORGANIZER;CN=James Reilly;CN=Ginny Hannahan;CN=Noam Weinreich:
METHOD:PUBLISH
END:VEVENT
END:VCALENDAR
