BEGIN:VCALENDAR
PRODID:-//Grails iCalendar plugin//NONSGML Grails iCalendar plugin//EN
VERSION:2.0
CALSCALE:GREGORIAN
METHOD:PUBLISH
BEGIN:VEVENT
DTSTAMP:20260420T024802Z
DTSTART;TZID=Europe/London:20260427T090000
DTEND;TZID=Europe/London:20260427T170000
SUMMARY:Global Theory Forum Spring Symposium
UID:20260423T111306Z-iCalPlugin-Grails@philevents-web-f5d4878dd-nv7xt
TZID:Europe/London
LOCATION: Room 421\, Roberts Building\, University College London\, London\, United Kingdom
DESCRIPTION:<p>The Global Theory Forum (GTF) is now inviting submissions from Early Career political theorists and philosophers for our 2026 Spring Symposium (27th April\, Room 421\, Roberts Building\, University College London). We are thrilled to be funded by the Society for Applied Philosophy\, which aims to promote philosophical work with direct practical and public impact.</p>\n<p>The event will include four panels\, each involving two early-career speakers and one senior discussant\, and arranged around four topical themes:</p>\n<ol>\n<li>\n<p>The methodology of situated theory (chaired by Dr Alice Baderin\, University of Reading)</p>\n</li>\n<li>\n<p>Digital technology\, AI\, and global power (chaired by Dr Alex Grzankowski\, KCL)</p>\n</li>\n<li>\n<p>The climate crisis (chaired by Dr Ross Mittiga\, SOAS)</p>\n</li>\n<li>\n<p>Work and its future (chaired by Dr Tom Parr\, University of Warwick)</p>\n</li>\n</ol>\n<p>In each panel\, speakers will present for 15-20 minutes\, followed by a response from our senior discussant and a Q&amp\;A.</p>\n<p>The Symposium keynote will be delivered by Professor Jeff Howard (UCL)\, whose research on online communications pairs political philosophy with deep engagement with policy and legal scholarship. There will also be a drinks reception hosted at UCL\, and dinner for the selected panellists and discussants.</p>\n<p>More details here:&nbsp\;https://www.globaltheoryforum.co.uk/spring-symposium.</p>
ORGANIZER:
METHOD:PUBLISH
END:VEVENT
END:VCALENDAR
