BEGIN:VCALENDAR
PRODID:-//Grails iCalendar plugin//NONSGML Grails iCalendar plugin//EN
VERSION:2.0
CALSCALE:GREGORIAN
METHOD:PUBLISH
BEGIN:VEVENT
DTSTAMP:20260420T043234Z
DTSTART;TZID=Europe/Amsterdam:20260518T090000
DTEND;TZID=Europe/Amsterdam:20260518T170000
SUMMARY:“Rethinking Anthropocentrism: New Technologies and More- than-Human Sensing"
UID:20260423T191916Z-iCalPlugin-Grails@philevents-web-f5d4878dd-nv7xt
TZID:Europe/Amsterdam
LOCATION:Utrecht University\, Utrecht\, Netherlands
DESCRIPTION:<p><strong>Call for Participation: &ldquo\;Rethinking Anthropocentrism: New Technologies and More-</strong></p>\n<p><strong>than-Human Sensing&rdquo\;</strong></p>\n<p>Leiden (NL)\, May 18th\, 2026</p>\n<p>Emerging sensing technologies can access a variety of data that are beyond the reach of human embodied perception. Consequently\, such technologies trouble the anthropocentrism of human embodied perception as the model for experience per se. However\, the mediation needed to make the sensed data accessible for humans still needs to be targeted at human perception\, thus potentially reintroducing anthropocentrism. This workshop aims to discuss to what extent anthropocentrism consequently still characterizes the sensing in such more-than-human assemblages. In a collaborative and hands-on approach\, it will connect embodied\, theoretical\, and technological perspectives in order to address this question.</p>\n<p>Contributions from neuroscientist Marta Calbi\, choreographer Stefania Ballone\, and curator Bart Grob will provide impulses to discuss the epistemic\, aesthetic\, and performative dimensions of such more-than-human sensing. Participants will have the opportunity to engage with thermal imaging technology in an exercise guided by Stefania Ballone and will get access to historical sensing technologies from the archive of Rijksmuseum Boerhaave\, provided by Bart Grob. Marta Calbi will offer a consideration of the implications of more-than human sensing for scientific purposes.</p>\n<p>Addressed at PhD Candidates\, early career researchers\, as well as artists\, the workshop aims to be a first step in building a research network to foster cross-disciplinary exchange around more-than-human sensing. Interested researchers are invited to send an application in the form of a brief cover letter (300 words) outlining how their work connects to the theme of the workshop\, as well as a short biography (250 words)\, to Giulia Andreini (giuliandreini.94@gmail.com)\, Giulio Galimberti (giulio.galimberti@unimi.it) and Jonathan Kirn (j.b.kirn@uu.nl). Applications are welcome until March 31\, 2026.</p>\n<p>Spots are limited. A partial reimbursement for travel and accommodation costs can be provided.</p>\n<p><em>The workshop is carried out in cooperation with Rijksmuseum Boerhaave and the Descartes&nbsp\;</em><em>Centre for the History and Philosophy of the Sciences and the Humanities. It is supported by the&nbsp\;</em><em>Institute for Cultural Inquiry of Utrecht University and made possible through the financial support&nbsp\;</em><em>of the Descartes Centre and the van Oostrom Grant for young humanities scholars at Utrecht&nbsp\;</em><em>University.</em></p>
ORGANIZER:
METHOD:PUBLISH
END:VEVENT
END:VCALENDAR
