BEGIN:VCALENDAR
PRODID:-//Grails iCalendar plugin//NONSGML Grails iCalendar plugin//EN
VERSION:2.0
CALSCALE:GREGORIAN
METHOD:PUBLISH
BEGIN:VEVENT
DTSTAMP:20260421T225731Z
DTSTART;TZID=America/Los_Angeles:20260423T090000
DTEND;TZID=America/Los_Angeles:20260424T170000
SUMMARY:Value and Responsibility in AI Technologies
UID:20260424T170948Z-iCalPlugin-Grails@philevents-web-6b96c54f56-bljdq
TZID:America/Los_Angeles
LOCATION:502 E Boone Ave\, Spokane\, United States
DESCRIPTION:<p>This is the second Value and Responsibility in AI Technologies conference. This event will bring together scholar\, students\, faith leaders\, educators\, industry professional\, and tech leaders to explore the impact of AI on our identity\, educational practices\, and the evolving landscape of work. The conference is framed by three themes: 1) meaning and identity\, 2) learning and education\, and 3) work and the workforce. Each theme has two panels.</p>\n<p>The following day\, 24 April 2026\, is a workshop on the Ethics of Responsible AI\, which draws from multiple disciplines and industry perspectives on the conceptual foundations and ethical underpinnings of responsible AI. Speakers for the workshop are:</p>\n<p>Anthony Fisher\, Gonzaga</p>\n<p>Daniel Tigard\, USD</p>\n<p>Sherri Lynn Conklin and Samantha Noll\, WSU</p>\n<p>Aaron Wolf\, Colgate</p>\n<p>Mark Graves\, USF</p>\n<p>Grace Yee\, Adobe</p>
ORGANIZER;CN=A. R. J. Fisher:
METHOD:PUBLISH
END:VEVENT
END:VCALENDAR
