BEGIN:VCALENDAR
PRODID:-//Grails iCalendar plugin//NONSGML Grails iCalendar plugin//EN
VERSION:2.0
CALSCALE:GREGORIAN
METHOD:PUBLISH
BEGIN:VEVENT
DTSTAMP:20260424T024453Z
DTSTART;TZID=Europe/London:20260630T000000
DTEND;TZID=Europe/London:20260630T000000
SUMMARY:Journal of Law\, Society\, and Authority (Volume 15\, Issue2\,  September 2026)
UID:20260501T030026Z-iCalPlugin-Grails@philevents-web-6b96c54f56-bljdq
TZID:Europe/London
DESCRIPTION:<p><strong>Call for Papers</strong><strong><br> Journal of Law\, Society\, and Authority (JLSA)</strong><br> Volume 15\, Issue 2 &ndash\; September 2026</p>\n<p><strong>a peer-reviewed\, open-access academic journal published biannually.</strong><strong></strong></p>\n<p>The <strong><em>Journal of Law\, Society\, and Authority</em> </strong>invites original research articles and theoretical contributions for its upcoming <strong>Volume 15\, Issue 2 (September 2026).</strong> The journal welcomes rigorous interdisciplinary scholarship addressing contemporary transformations in legal systems\, governance structures\, political authority\, and international dynamics.</p>\n<p>Topics of interest include\, but are not limited to:</p>\n<ul>\n<li>Legal systems and institutional reforms.</li>\n<li>Social and political rights.</li>\n<li>International relations and global governance.</li>\n<li>Public policy and societal impact.</li>\n<li>Political theory and ideological developments.</li>\n</ul>\n<p><strong>&nbsp\;</strong></p>\n<p><strong>Languages</strong><br> Submissions are accepted in <strong>English</strong> and <strong>French</strong>.</p>\n<p><strong>Submission Process</strong></p>\n<p>-&nbsp\;&nbsp\;&nbsp\;&nbsp\;&nbsp\;&nbsp\; Manuscripts must comply with the journal&rsquo\;s formatting and ethical requirements and be submitted through the Algerian Scientific Journal Platform (ASJP):&nbsp\;<a href="https://asjp.cerist.dz/en/submission/153">Access the Submission Portal</a></p>\n<p>Submission by email will be considered only in exceptional circumstances and upon prior communication with the editorial office (jlsa.journal@gmail.com). </p>\n<p>-&nbsp\;&nbsp\;&nbsp\;&nbsp\;&nbsp\;&nbsp\; Comprehensive author guidelines are available on the journal&rsquo\;s OJS website:&nbsp\;&nbsp\;<a href="https://revue.univ-oran2.dz/Revue/DSP/index.php/DSP/Author-guidelines">Author Guidelines</a></p>\n<p> <br> </p>\n<p><strong>Indexation and Identification</strong></p>\n<p>The journal is indexed in the Directory of Open Access Journals<a href="https://doaj.org/toc/2253-0266">DOAJ</a>\, and all published articles are assigned a<a href="https://search.crossref.org/?q=+2600-6219&amp\;from_ui=yes">CrossRef DOI</a>.</p>\n\n<p><strong>Deadline for Submissions:</strong></p>\n<p><strong><em>&nbsp\; &nbsp\;&nbsp\;&nbsp\;&nbsp\;&nbsp\;&nbsp\;&nbsp\;&nbsp\;&nbsp\;&nbsp\;&nbsp\;&nbsp\;&nbsp\;&nbsp\;&nbsp\;&nbsp\;&nbsp\;&nbsp\;&nbsp\;&nbsp\;&nbsp\; </em></strong><strong><em>June 30\, 2026</em></strong><em></em></p>\n<p><strong>Contact:</strong> <br> <a href="mailto:jlsa.journal@gmail.com">jlsa.journal@gmail.com</a></p>
ORGANIZER:
METHOD:PUBLISH
END:VEVENT
END:VCALENDAR
