BEGIN:VCALENDAR
PRODID:-//Grails iCalendar plugin//NONSGML Grails iCalendar plugin//EN
VERSION:2.0
CALSCALE:GREGORIAN
METHOD:PUBLISH
BEGIN:VEVENT
DTSTAMP:20260419T120014Z
DTSTART;TZID=Europe/Amsterdam:20260702T090000
DTEND;TZID=Europe/Amsterdam:20260702T170000
SUMMARY:Foundational Issues in Biodiversity Finance
UID:20260420T013011Z-iCalPlugin-Grails@philevents-web-f5d4878dd-nv7xt
TZID:Europe/Amsterdam
LOCATION:Groningen\, Netherlands
DESCRIPTION:<p>As financial instruments and metrics are increasingly leveraged to govern biodiversity\, urgent questions arise regarding their legitimacy\, efficacy\, and justice. This NWO sponsored workshop aims to bring together researchers from philosophy\, finance\, economics\, law\, and environmental governance to discuss the emerging field of biodiversity finance. We are particularly interested in questions such as: How can biodiversity impacts be measured and incorporated into financial decision-making? What role should banks\, investors\, and public institutions play in biodiversity conservation? What governance structures are needed to ensure effective biodiversity finance? And how to ensure a just biodiversity finance\, for both human and non-human communities involved?</p>\n<p>We are delighted to welcome as keynote speakers:&nbsp\;<strong>dr. Helen Kopnina </strong>(Northumbria University) and&nbsp\;<strong>dr. Helen Toxopeus </strong>(Utrecht University).</p>\n<p><strong>Key Themes</strong></p>\n<p>We welcome submissions addressing\, but not limited to\, the following areas:</p>\n<ul>\n<li><strong>Normative Foundations:</strong> Fairness and justice for local human and non-human communities.</li>\n<li><strong>Technical Challenges:</strong> The challenges and limitations of using financial metrics to represent ecological value in biodiversity finance.</li>\n<li><strong>Governance:</strong> The role of institutional frameworks in managing financialized biodiversity.</li>\n<li><strong>Accountability:</strong> Responsibility in biodiversity-finance decision-making and the role of stakeholders.</li>\n</ul>\n<p><strong>Abstract submission Guidelines</strong></p>\n<ul>\n<li>The submission deadline is<strong>&nbsp\;1st May\, 2026 at 23:59h CET</strong></li>\n<li>All papers and abstracts should be submitted using&nbsp\;<a  href="https://docs.google.com/forms/d/e/1FAIpQLSeXw6gQjN-iuwR14T21jiCPpq0aBC9aU2txugTbXM1wrhttjg/viewform?usp=header"  target="_blank">this form</a>.</li>\n<li>Your abstract should be no more than<strong>&nbsp\;500&nbsp\;</strong>words in length.</li>\n<li>Abstracts must be suitable for blind review\, i.e.\,&nbsp\;<strong>they must not contain any information that identifies the author or their institutional affiliation.&nbsp\;</strong></li>\n<li>Only one submission per&nbsp\;person is allowed</li>\n</ul>\n<p>The workshop will take place in the historic city of Groningen. While there is no registration fee\, participants are expected to cover their own travel and accommodation.<br> <br> If you have any questions\, please feel free to email: <a  href="mailto:j.a.m.de.grefte@rug.nl"  target="_blank">j.a.m.de.grefte@rug.nl</a><br><br></p>
ORGANIZER;CN=Job de Grefte:
METHOD:PUBLISH
END:VEVENT
END:VCALENDAR
