BEGIN:VCALENDAR
PRODID:-//Grails iCalendar plugin//NONSGML Grails iCalendar plugin//EN
VERSION:2.0
CALSCALE:GREGORIAN
METHOD:PUBLISH
BEGIN:VEVENT
DTSTAMP:20260419T164218Z
DTSTART;TZID=Europe/London:20260605T130000
DTEND;TZID=Europe/London:20260605T170000
SUMMARY:Factual Polarization and the Politics of Identity
UID:20260421T084352Z-iCalPlugin-Grails@philevents-web-f5d4878dd-nv7xt
TZID:Europe/London
LOCATION:London\, United Kingdom\, WC1E 7HU
DESCRIPTION:<p>1:00 &ndash\; 2:00 pm<br>Factual Polarization: Can We Pay Partisans to Agree?<br>Michael Hannon<br>University of Nottingham<br><br></p>\n<p>2:00 &ndash\; 3:00 pm<br>How Identities Distort the Pseudo-Environment<br>Daniel Williams<br>University of Sussex<br><br><em>&mdash\; break &mdash\;</em><br><br>3:30 &ndash\; 4:30 pm<br>Impossible Conversations: Dispute Without Shared Facts<br>Gloria Origgi<br>Institut Jean Nicod</p>\n<p>4:30 &ndash\; 5:30 pm<br>Factual Polarization and the Construction of Political Identity<br>Jonathan Benson<br>University of Manchester</p>
ORGANIZER;CN=Michael Hannon:
METHOD:PUBLISH
END:VEVENT
END:VCALENDAR
