BEGIN:VCALENDAR
PRODID:-//Grails iCalendar plugin//NONSGML Grails iCalendar plugin//EN
VERSION:2.0
CALSCALE:GREGORIAN
METHOD:PUBLISH
BEGIN:VEVENT
DTSTAMP:20260420T060848Z
DTSTART;TZID=Europe/London:20260917T090000
DTEND;TZID=Europe/London:20260918T170000
SUMMARY:Interpreting Medical Images (IMI): epistemological\, methodological\, and hermeneutical perspectives 
UID:20260424T030019Z-iCalPlugin-Grails@philevents-web-f5d4878dd-nv7xt
TZID:Europe/London
LOCATION:Sheffield\, United Kingdom
DESCRIPTION:<p>This two-day conference at the University of Sheffield wants to bring together philosophers of science\, philosophers of medicine\, and scholars from related fields to examine the interpretation of medical images by human experts and/or AI systems. The aim is to foster sustained philosophical discussion on how medical images are produced\, interpreted\, validated\, and integrated into clinical reasoning and decision-making.</p>\n<p>Link to the conference website:</p>
ORGANIZER:
METHOD:PUBLISH
END:VEVENT
END:VCALENDAR
