BEGIN:VCALENDAR
PRODID:-//Grails iCalendar plugin//NONSGML Grails iCalendar plugin//EN
VERSION:2.0
CALSCALE:GREGORIAN
METHOD:PUBLISH
BEGIN:VEVENT
DTSTAMP:20260420T075821Z
DTSTART;TZID=Europe/London:20260415T234500
DTEND;TZID=Europe/London:20260415T234500
SUMMARY:Interpreting Medical Images (IMI): epistemological\, methodological\, and hermeneutical perspectives 
UID:20260424T094934Z-iCalPlugin-Grails@philevents-web-f5d4878dd-nv7xt
TZID:Europe/London
LOCATION:Sheffield\, United Kingdom
DESCRIPTION:<p>Candidates wishing to present are invited to submit an abstract of no more than 2000 characters (bibliography excluded).</p>\n<p>Abstracts should be submitted via a Google Form which can be filled in at this link:https://forms.gle/Dzbb1VedMZMpQo4UA</p>\n<p>The submission deadline is March 31st 2026. The results of the selection process will be communicated to the candidates in May 2026.</p>
ORGANIZER:
METHOD:PUBLISH
END:VEVENT
END:VCALENDAR
