BEGIN:VCALENDAR
PRODID:-//Grails iCalendar plugin//NONSGML Grails iCalendar plugin//EN
VERSION:2.0
CALSCALE:GREGORIAN
METHOD:PUBLISH
BEGIN:VEVENT
DTSTAMP:20260419T132406Z
DTSTART;TZID=Europe/London:20261104T090000
DTEND;TZID=Europe/London:20261106T170000
SUMMARY:The 4th annual conference of the The International Society for the Philosophy of the Sciences of the Mind
UID:20260420T132036Z-iCalPlugin-Grails@philevents-web-f5d4878dd-nv7xt
TZID:Europe/London
DESCRIPTION:<p>What is the mind\, and how does it work? These questions have led to centuries of philosophical and empirical investigations\, and still lack definitive answers. We thus invite submissions from all disciplines that leverage insights from the use of different techniques\, methodologies\, and research questions to shed light on the nature and functioning of the mind.</p>\n<p>In this fourth web conference\, we seek again to bring together many of these perspectives to build a common ground\, a comprehensive and multi-scale conceptual landscape of the mind. We accept submissions from a broad range of perspectives\, including - but not limited to - philosophy of psychology\, philosophy of psychiatry\, philosophy of neuroscience\, philosophy of cognitive science\, philosophy of mind\, philosophy of artificial intelligence &amp\; robotics\, philosophy of linguistics\, philosophy of ethology\, philosophy of (cognitive) anthropology\, philosophy of biology\, philosophy of the social sciences and consciousness studies.</p>\n<p>We are delighted to already have a number of excellent keynote speakers confirmed for 2026\, including:</p>\n<p>Devon Bailey<br>University of Johannesburg\,&nbsp\;Republic of South Africa</p>\n<p>Louise Barrett<br>University of Lethbridge\,&nbsp\;Canada</p>\n<p>Ali Boyle<br>LSE\,&nbsp\;United Kingdom</p>\n<p>Melina Gastelum Vargas<br>UNAM\, Mexico</p>\n<p>Michael Kirchhoff<br>University of Wollongong\,&nbsp\;Australia</p>\n<p>Yukie Nagai<br>University of Tokyo\, Japan</p>\n<p>Practical Information</p>\n<p>When: 4-6 November 2026<br>Where: Online<br>Fees: The conference is fully online\, and no fee is required<br>Further Inquiries:&nbsp\;ispsmofficial@gmail.com</p>
ORGANIZER;CN=Marco Facchin;CN=Valeria Becattini;CN=Liberty Severs;CN=Niccolo Negro;CN="María Jimena Clavel Vázquez";CN=Carlos Barth;CN=Laura Oppi;CN=April Owens:
METHOD:PUBLISH
END:VEVENT
END:VCALENDAR
