BEGIN:VCALENDAR
PRODID:-//Grails iCalendar plugin//NONSGML Grails iCalendar plugin//EN
VERSION:2.0
CALSCALE:GREGORIAN
METHOD:PUBLISH
BEGIN:VEVENT
DTSTAMP:20260419T145653Z
DTSTART;TZID=Europe/London:20260731T234500
DTEND;TZID=Europe/London:20260731T234500
SUMMARY:The 4th annual conference of the The International Society for the Philosophy of the Sciences of the Mind
UID:20260420T220308Z-iCalPlugin-Grails@philevents-web-f5d4878dd-nv7xt
TZID:Europe/London
DESCRIPTION:<p><strong>Call for Abstracts</strong> &nbsp\; <br><br>The International Society for the Philosophy of the Sciences of the Mind (ISPSM) is happy to invite all philosophers working on any science of the mind (broadly construed) to submit an abstract for a paper or a symposium. We particularly encourage submissions from underrepresented groups in the field\, including members of the LGBTQIA+ community and those based in the global south\, as part of our ongoing commitment to diversity and inclusion practices in philosophy and beyond. &nbsp\; <br><br>What is the mind\, and how does it work? These questions have led to centuries of philosophical and empirical investigations\, and still lack definitive answers. We thus invite submissions from all disciplines that leverage insights from the use of different techniques\, methodologies\, and research questions to shed light on the nature and functioning of the mind. &nbsp\; <br><br>In this fourth web conference\, we seek again to bring together many of these perspectives to build a common ground\, a comprehensive and multi-scale conceptual landscape of the mind. We accept submissions from a broad range of perspectives\, including - but not limited to - philosophy of psychology\, philosophy of psychiatry\, philosophy of neuroscience\, philosophy of cognitive science\, philosophy of mind\, philosophy of artificial intelligence &amp\; robotics\, philosophy of linguistics\, philosophy of ethology\, philosophy of (cognitive) anthropology\, philosophy of biology\, philosophy of the social sciences and consciousness studies. &nbsp\; <br><br>We are delighted to already have a number of excellent <strong>keynote speakers</strong> confirmed for 2026\, including: &nbsp\; <br><br>Devon Bailey University of Johannesburg\, Republic of South Africa &nbsp\; <br><br>Louise Barrett University of Lethbridge\, Canada &nbsp\; <br><br>Ali Boyle LSE\, United Kingdom &nbsp\; <br><br>Melina Gastelum Vargas UNAM\, Mexico &nbsp\;</p>\n<p>Michael Kirchhoff University of Wollongong\, Australia &nbsp\;</p>\n<p>Yukie Nagai University of Tokyo\, Japan &nbsp\;</p>\n<p><strong>Practical Information</strong> &nbsp\;</p>\n<p>When: 4-6 November 2026</p>\n<p>Where: Online</p>\n<p>Fees: The conference is fully online\, and no fee is required</p>\n<p>Further Inquiries: ispsmofficial@gmail.com &nbsp\; &nbsp\; &nbsp\;</p>\n<p><strong><br></strong></p>\n<p><strong>Information for submission</strong> &nbsp\;</p>\n<p><u>Abstracts for single papers</u> (about 30 minutes each including Q&amp\;A) should be anonymized PDFs of maximum 500 words\, and should include references and 3-5 keywords (both excluded from the wordcount). To submit an abstract\, please use the following link:&nbsp\;</p>\n<p>&nbsp\; https://docs.google.com/forms/d/e/1FAIpQLSfnep5cuix6t3NbLY6J9fE3Yul-bk5afwzDQ7y-x-EbJ0jAhw/viewform &nbsp\;</p>\n<p><u>Proposals for symposia</u> (2 hours including Q&amp\;A\, maximum 4 papers) should be PDF files between 1500 and 2000 words\, excluding references and 3-5 keywords. Unlike papers\, they should not be anonymized: speakers' affiliations and contacts should be included in the main text. To submit a symposium proposal\, please use the following link:</p>\n<p>&nbsp\; https://docs.google.com/forms/d/e/1FAIpQLSeC3XMR-0A9Pw0A_Xm1f3ZCoinJ0mUW3cGwvQKdKoA_I014ZQ/viewform &nbsp\;</p>\n<p><strong>Deadline for submissions: 31/07/2026</strong> &nbsp\;</p>\n<p><strong>Best meme prize</strong> &nbsp\;</p>\n<p>Many scientific societies have prizes for the best paper. As an online-based society\, we instead launch a contest for the best graphic meme regarding the philosophy of the sciences of the mind. We are interested in memes formed by static images + text and GIFs. &nbsp\; The contest is open to all those who submit a paper or a symposium at the conference: to participate\, simply add up to a .GIF or .JPEG file entitled "ISPSM2026 Best Meme Contest." Memes should aim to elicit a laugh and then a thought (similarly to the Ig Nobel prize) and should abide by the ISPSM code of conduct (https://www.ispsmind.com/). The winning meme will be selected by the participants through a vote\, and hosted on the society&rsquo\;s homepage and social media.&nbsp\; &nbsp\; &nbsp\; &nbsp\;</p>\n\n<p>Organizing committee&nbsp\; &nbsp\;</p>\n<p>Marco Facchin\, Universiteit Antwerpen</p>\n<p>Valeria Becattini\, IUSS Pavia</p>\n<p>Liberty Severs\, Ruhr-Univesit&auml\;t Bochum\, the University of Lisbon and the Konrad Lorentz Institute</p>\n<p>Clavel V&aacute\;zquez\, Jimena - Tilburg University</p>\n<p>Negro\, Niccol&ograve\; - School of Psychological Sciences\, Tel Aviv University</p>\n<p>Carlos Barth - Jesuit Faculty of Philosophy and Theology (FAJE)</p>\n<p>Laura Oppi - Center for Subjectivity Research\, University of Copenhagen</p>\n<p>April Owens - University of Cambridge</p>
ORGANIZER;CN=Niccolo Negro;CN=Marco Facchin;CN=Liberty Severs;CN=Valeria Becattini;CN="María Jimena Clavel Vázquez";CN=Carlos Barth;CN=Laura Oppi;CN=April Owens:
METHOD:PUBLISH
END:VEVENT
END:VCALENDAR
