BEGIN:VCALENDAR
PRODID:-//Grails iCalendar plugin//NONSGML Grails iCalendar plugin//EN
VERSION:2.0
CALSCALE:GREGORIAN
METHOD:PUBLISH
BEGIN:VEVENT
DTSTAMP:20260420T041800Z
DTSTART;TZID=Asia/Tokyo:20260516T093000
DTEND;TZID=Asia/Tokyo:20260517T170000
SUMMARY:Tohoku–Berkeley Colloquium on Early Modern Philosophy and Political Thought
UID:20260423T174651Z-iCalPlugin-Grails@philevents-web-f5d4878dd-nv7xt
TZID:Asia/Tokyo
LOCATION:Sendai-shi\, Japan
DESCRIPTION:<p>The&nbsp\;Tohoku&ndash\;Berkeley Colloquium on Early Modern Philosophy and Political Thought is a two-day event devoted to interdisciplinary research in the history of philosophy and the history of political thought\, with particular emphasis on the early modern period. Co-organised by graduate students and faculty affiliated with Tohoku University and the University of California\, Berkeley\, the colloquium brings together scholars from Japan and US institutions for focused discussion of pre-circulated work-in-progress papers. The keynote address will be delivered by Professor Kakko Hiroki (Graduate School of Law\, Tohoku University).</p>
ORGANIZER:
METHOD:PUBLISH
END:VEVENT
END:VCALENDAR
