BEGIN:VCALENDAR
PRODID:-//Grails iCalendar plugin//NONSGML Grails iCalendar plugin//EN
VERSION:2.0
CALSCALE:GREGORIAN
METHOD:PUBLISH
BEGIN:VEVENT
DTSTAMP:20260420T151313Z
DTSTART;TZID=America/New_York:20260403T084500
DTEND;TZID=America/New_York:20260403T170000
SUMMARY:Artificial Intelligence and Human Values: A Public Conversation
UID:20260420T225735Z-iCalPlugin-Grails@philevents-web-f5d4878dd-nv7xt
TZID:America/New_York
LOCATION:University of New Hampshire\, Durham\, United States\, 03824
DESCRIPTION:<p>8:45 am Coffee &amp\; pastries</p>\n<p><strong>9:30 - 10:30 am</strong> Harvey Lederman: &ldquo\;New Culture for a New World&rdquo\;</p>\n<p><strong>10:30 - 11:30 am</strong> Beba Cebralic: &ldquo\;Problems in Assessing Agency and Attributing Responsibility in AIs&rdquo\;</p>\n<p><strong>11:30 - 12:30 pm</strong> Henry Shevlin: &ldquo\;Social AI and the Future of Human Connection&rdquo\;</p>\n<p><strong>12:30 &ndash\; 2 pm</strong> LUNCH</p>\n<p><strong>2:00 - 3:00 pm</strong> Kay Mathiesen: "How Serious is the Threat of Digital Fakes?"</p>\n<p><strong>3:00 - 4:30 pm</strong>&nbsp\;Nir Eisokovits and James Hughes on Therapy Bots&nbsp\;</p>
ORGANIZER;CN=Claudi Brink;CN=Maximilian Edwards:
METHOD:PUBLISH
END:VEVENT
END:VCALENDAR
