BEGIN:VCALENDAR
PRODID:-//Grails iCalendar plugin//NONSGML Grails iCalendar plugin//EN
VERSION:2.0
CALSCALE:GREGORIAN
METHOD:PUBLISH
BEGIN:VEVENT
DTSTAMP:20260420T035437Z
DTSTART;TZID=America/New_York:20260807T030000
DTEND;TZID=America/New_York:20260809T170000
SUMMARY:Philosophy in the Wild--Philadelphia area\, PA (2026)
UID:20260423T153850Z-iCalPlugin-Grails@philevents-web-f5d4878dd-nv7xt
TZID:America/New_York
LOCATION:Media\, United States
DESCRIPTION:<p>Philosophy in the Wild is hosting a workshop on the theme of <strong>Philosophy of Academia</strong>\, from August 7-9\, 2026. This is a low-tech\, fully outdoor event. Additional information is available at&nbsp\;<a href="https://philosophywild.wixsite.com/philwild">https://philosophywild.wixsite.com/philwild</a>&nbsp\;and at&nbsp\;<a href="https://philosophywild.wixsite.com/philwild/cfa-pa-2026">https://philosophywild.wixsite.com/philwild/cfa-pa-2026</a>.&nbsp\;</p>
ORGANIZER;CN="Maja Sidzińska";CN=Asil M. Martinez:
METHOD:PUBLISH
END:VEVENT
END:VCALENDAR
