BEGIN:VCALENDAR
PRODID:-//Grails iCalendar plugin//NONSGML Grails iCalendar plugin//EN
VERSION:2.0
CALSCALE:GREGORIAN
METHOD:PUBLISH
BEGIN:VEVENT
DTSTAMP:20260420T193014Z
DTSTART;TZID=Europe/London:20260402T110000
DTEND;TZID=Europe/London:20260402T170000
SUMMARY:LSE Conjectures and Refutations Inaugural Workshop: Scientific Modelling
UID:20260420T214834Z-iCalPlugin-Grails@philevents-web-6b96c54f56-bljdq
TZID:Europe/London
LOCATION:Lakatos Building\, Room 2.06\, London\, United Kingdom
DESCRIPTION:<p>We are pleased to announce that the Conjectures and Refutations workshop series will hold its inaugural session on Scientific Modelling on 2 April 2026\, organised by the PhD community in the Department of Philosophy\, Logic and Scientific Method at LSE. &nbsp\;</p>\n<p>Models play a central role across the sciences and in philosophy itself\, yet fundamental questions remain about how they represent\, explain\, and produce understanding. This workshop brings together four talks spanning the spectrum from the philosophy of modelling to concrete modelling practices. &nbsp\;</p>\n<p>Date: Thursday\, 2 April 2026</p>\n<p>Venue: Lakatos Building\, Room 2.06\, LSE &nbsp\;</p>\n<p>Schedule: &nbsp\;</p>\n<p><u>11:00&ndash\;12:00</u>&nbsp\;Keynote: Roman Frigg(LSE) &nbsp\; &nbsp\;</p>\n<p><u>Lunch</u> &nbsp\;</p>\n<p><u>13:30&ndash\;15:00</u>&nbsp\;Robert Northcott (Birkbeck\, University of London)\, <em>"Modelling and fragility</em><em>&rdquo\;</em>&nbsp\; &nbsp\; &nbsp\; &nbsp\; &nbsp\;&nbsp\;</p>\n<p>&nbsp\; &nbsp\; &nbsp\; Response: Vita Kudryavtseva (LSE)\, followed by Q&amp\;A &nbsp\;</p>\n<p><u>15:15&ndash\;16:45</u>&nbsp\;Tarja Knuuttila (University of Vienna)\, <em>&ldquo\;The Abstractness of Network Motifs"</em>&nbsp\; &nbsp\; &nbsp\; &nbsp\;</p>\n<p>&nbsp\; &nbsp\; &nbsp\; &nbsp\;Response: Jonathan Coull (LSE)\, followed by Q&amp\;A &nbsp\;</p>\n<p><u>17:00&ndash\;18:30</u>&nbsp\;Emily Sullivan (University of Edinburgh)\, <em>&ldquo\;Decomposing Machine Learning Models&rdquo\;</em>&nbsp\; &nbsp\; &nbsp\;</p>\n<p>&nbsp\; &nbsp\; &nbsp\; &nbsp\; Response: Franco Menares-Paredes (LSE)\, followed by Q&amp\;A &nbsp\;</p>\n<p><u>18:30&ndash\;19:00</u>&nbsp\;Reception &nbsp\;</p>\n<p>The workshop is open to all. To attend\, please register here: https://forms.gle/wWhMep57yMwfgCLK7&nbsp\; &nbsp\;&nbsp\;</p>\n<p>We very much hope to see you there! Please feel free to circulate this announcement to anyone who might be interested.&nbsp\; &nbsp\;</p>
ORGANIZER;CN=Franco Menares-Paredes;CN=Binjie Zou;CN=Daria Zakharova;CN=Alexander Niederklapfer:
METHOD:PUBLISH
END:VEVENT
END:VCALENDAR
