BEGIN:VCALENDAR
PRODID:-//Grails iCalendar plugin//NONSGML Grails iCalendar plugin//EN
VERSION:2.0
CALSCALE:GREGORIAN
METHOD:PUBLISH
BEGIN:VEVENT
DTSTAMP:20260422T003317Z
DTSTART;TZID=Europe/Paris:20260604T090000
DTEND;TZID=Europe/Paris:20260605T170000
SUMMARY:Architecture and Formalization of Mathematics
UID:20260424T220250Z-iCalPlugin-Grails@philevents-web-6b96c54f56-bljdq
TZID:Europe/Paris
LOCATION:University of Chicago Boyer Paris Center\, Paris\, France\, 75013
DESCRIPTION:<p>We are excited to announce our upcoming conference\,&nbsp\;<strong>Architecture&nbsp\;and Formalization of Mathematics.&nbsp\;</strong>This event is a collaboration between the University of Chicago\, the CNRS and the Universit&eacute\; Paris Cit&eacute\;\, and will be held at the University of Chicago Center&nbsp\;in Paris&nbsp\;on&nbsp\;<strong>June 4th and 5th\, 2026.</strong>&nbsp\;</p>\n<p>The theme of this conference is inspired by the recent wave of formalization in mathematics and its broader implications for the field. We are specifically interested in how modern formalization compares to historical attempts to understand the structure and unity of mathematics\; the new research programs that formalization generates\; and the challenges and opportunities created by the emergence of vast databases of formalized mathematics. Our theme takes as its keywords "Architecture"&mdash\;the structure and organization of mathematics and its branches&mdash\;and "Formalization" &mdash\; with its pursuit of standards\, foundations\, and universal languages. We aim to pair contemporary perspectives from the formalization community with insights from the history and philosophy of mathematics.&nbsp\; &nbsp\;</p>\n<p>Best wishes\,</p>\n<p>The conference organizers &nbsp\;</p>\n<p>Kevin Davey (kdavey@uchicago.edu)</p>\n<p>Brice Halimi (brice.halimi@u-paris.fr)</p>\n<p>Stefanos Jones (stefanosjones@uchicago.edu)</p>
ORGANIZER;CN=Kevin Davey:
METHOD:PUBLISH
END:VEVENT
END:VCALENDAR
