BEGIN:VCALENDAR
PRODID:-//Grails iCalendar plugin//NONSGML Grails iCalendar plugin//EN
VERSION:2.0
CALSCALE:GREGORIAN
METHOD:PUBLISH
BEGIN:VEVENT
DTSTAMP:20260422T055017Z
DTSTART;TZID=Asia/Dhaka:20261210T090000
DTEND;TZID=Asia/Dhaka:20261212T170000
SUMMARY:15 Global Summit Bioethics/National Research Ethics Committee
UID:20260425T083356Z-iCalPlugin-Grails@philevents-web-6b96c54f56-bljdq
TZID:Asia/Dhaka
LOCATION:Dhaka\, Bangladesh
ORGANIZER;CN="Who, Unesco Bbs":
METHOD:PUBLISH
END:VEVENT
END:VCALENDAR
