BEGIN:VCALENDAR
PRODID:-//Grails iCalendar plugin//NONSGML Grails iCalendar plugin//EN
VERSION:2.0
CALSCALE:GREGORIAN
METHOD:PUBLISH
BEGIN:VEVENT
DTSTAMP:20260422T070710Z
DTSTART;TZID=Europe/London:20260902T090000
DTEND;TZID=Europe/London:20260904T170000
SUMMARY:MANCEPT Workshop on Intimate (In)Justices
UID:20260425T114145Z-iCalPlugin-Grails@philevents-web-6b96c54f56-bljdq
TZID:Europe/London
LOCATION:Manchester\, United Kingdom
DESCRIPTION:<p>Convenors: Kristin K&auml\;uper\, Isobel Logan\, Charlotte Curran (University of Leeds)<br>Contact:&nbsp\;i.j.logan@leeds.ac.uk<br><br>This workshop will explore the relationship between intimacy and justice. We will ask: When and how should considerations of justice extend into our intimate lives and influence our actions? How are intimate relationships shaped by\, reproduce\, and resistant to broader structures of injustice and oppression? Should we worry about the distribution of opportunities for intimacy? How do we balance the responsibilities of the individual\, communities\, and the state in promoting just forms of relating?<br><br>We hope to better understand the ways in which hegemonic norms\, institutions\, and intersecting forms of oppression structure intimate life\, governing who is able to form certain relationships\, which relationships are socially valued\, and how power operates within them. We seek to explore the potential of intimate practices and communities of care as sites of resistance\, solidarity\, and social transformation.</p>\n<p>We are particularly interested in&nbsp\;exploring&nbsp\;non-normative ways of relating (e.g. asexuality/aromanticism\, polyamory\, relationship anarchy) and matters of intersecting identities that are underrepresented in philosophy (e.g. sexuality\, disability\, race\, age\, socio-economic status).<br><br>By intimacy\, we mean forms of closeness and connection upon which special relationships are based. This encompasses a wide range of relationships\, including but not limited to sexual\, romantic\, platonic\, collegial\, familial\, and parental relationships\, whether in-person or technologically mediated.</p>\n<p>Registration opens in April</p>\n<p>Further details about the MANCEPT workshops can be found here: https://research.manchester.ac.uk/en/activities/mancept-workshops-2026/&nbsp\;</p>
ORGANIZER;CN=Isobel Logan;CN="Kristin Käuper";CN=Charlotte Curran:
METHOD:PUBLISH
END:VEVENT
END:VCALENDAR
