BEGIN:VCALENDAR
PRODID:-//Grails iCalendar plugin//NONSGML Grails iCalendar plugin//EN
VERSION:2.0
CALSCALE:GREGORIAN
METHOD:PUBLISH
BEGIN:VEVENT
DTSTAMP:20260422T073521Z
DTSTART;TZID=Europe/London:20260624T100000
DTEND;TZID=Europe/London:20260626T170000
SUMMARY:III International Colloquium on the Metaphysics and Semantics of Fiction
UID:20260425T124726Z-iCalPlugin-Grails@philevents-web-6b96c54f56-bljdq
TZID:Europe/London
DESCRIPTION:<p><strong>III International Colloquium on the Metaphysics and Semantics of Fiction</strong></p>\n<p><strong>Keynote speakers:</strong></p>\n<p>Andreas Stokke (Uppsala Universitet)</p>\n<p>Elisa Paganini (Universit&agrave\; degli Studi di Milano)</p>\n<p>Edward Zalta (Stanford University)</p>\n<p>Manuel Garc&iacute\;a-Carpintero (Universitat de Barcelona)</p>\n<p>Merel Semeijn (Rijksuniversiteit Groningen)</p>\n<p>Sara Uckelman (Durham University)</p>\n<p>The event is free of charge and will be held&nbsp\;<strong>online</strong> on June 24\, 25\, and 26\, 2026. Abstract submissions will be accepted until May 15.</p>\n<p><strong>For further information:</strong>&nbsp\;https://metasemafiction.wixsite.com/phil</p>
ORGANIZER;CN=Italo Lins Lemos;CN=Jerzy Brzozowski:
METHOD:PUBLISH
END:VEVENT
END:VCALENDAR
