BEGIN:VCALENDAR
PRODID:-//Grails iCalendar plugin//NONSGML Grails iCalendar plugin//EN
VERSION:2.0
CALSCALE:GREGORIAN
METHOD:PUBLISH
BEGIN:VEVENT
DTSTAMP:20260422T054858Z
DTSTART;TZID=America/New_York:20261120T090000
DTEND;TZID=America/New_York:20261121T170000
SUMMARY:Philosophy of Animal Welfare
UID:20260425T083336Z-iCalPlugin-Grails@philevents-web-6b96c54f56-bljdq
TZID:America/New_York
LOCATION:Duke Law School\, 210 Science Drive\, Durham\, United States
DESCRIPTION:<p>This conference will focus on the nature\, measurement\, and moral significance of animal well-being.&nbsp\;&nbsp\; We invite philosophical contributions on the following topics: (1) Which animals are welfare-subjects?&nbsp\; (2) What is the appropriate account of well-being for nonhuman animals (be it a hedonic\, desire- or preference-based\, objective-good\, or hybrid theory)? (3) Does the very same account apply to both human and nonhumans (the question of &ldquo\;invariabilism&rdquo\;)?&nbsp\; (4) How should animal welfare be measured\, on one or another account of well-being?&nbsp\; (5) How does animal welfare matter morally?&nbsp\; (6)&nbsp\; How should uncertainty about any of these topics be managed?</p>\n<p>Those interested in presenting at the conference should email an abstract not to exceed 300 words to <a href="mailto:leanna.doty@law.duke.edu">leanna.doty@law.duke.edu</a>.&nbsp\; Please include a current CV. &nbsp\;<strong>Due date for abstracts:&nbsp\; June 1\, 2026</strong>. &nbsp\;&nbsp\;Presentations should be based on work-in-progress\, rather than already published work.&nbsp\;&nbsp\; (Working papers available at the conference date will be circulated to participants\, but are not required for a presentation.) The conference will be an in-person conference.&nbsp\; Zoom presentations are possible\, but preference will be given to in-person presentations. &nbsp\;&nbsp\;The conference sponsors will cover accommodation (up to 3 nights) for those presenting at the conference\, and vegan food will be served during the conference.&nbsp\;&nbsp\; We have limited budget to cover travel by early career scholars (within five years of their degree).</p>\n<p>Because of space limitations\, participation in the conference will be limited to presenters.</p>
ORGANIZER;CN=Matthew D. Adler:
METHOD:PUBLISH
END:VEVENT
END:VCALENDAR
