BEGIN:VCALENDAR
PRODID:-//Grails iCalendar plugin//NONSGML Grails iCalendar plugin//EN
VERSION:2.0
CALSCALE:GREGORIAN
METHOD:PUBLISH
BEGIN:VEVENT
DTSTAMP:20260422T145418Z
DTSTART;TZID=America/Los_Angeles:20260516T093000
DTEND;TZID=America/Los_Angeles:20260517T170000
SUMMARY:UCSC Graduate Student Metaphysics Workshop
UID:20260426T134418Z-iCalPlugin-Grails@philevents-web-6b96c54f56-bljdq
TZID:America/Los_Angeles
LOCATION:Santa Cruz\, United States
DESCRIPTION:<p>UCSC Department of Philosophy Graduate Metaphysics Workshop 2026</p>\n<p>May 16&ndash\;17\, 2026<br>Humanities 1\, Room 210</p>\n<p><strong>Saturday &middot\; May 16</strong><strong><br></strong><strong>9:30&ndash\;10:30</strong><br><br>Hayden Macklin&nbsp\;(UC Davis)<br>Commentator: Nathaniel Burke&nbsp\;(UC Santa Cruz)<br>Chair: Terri Peszle (UC Santa Cruz)<br><br><strong>30-minute break</strong><strong><br></strong><br><strong>11:00&ndash\;12:00</strong><br><br>Ziyu Guo&nbsp\;(Stanford)<br>Commentator: Andrew Zhou&nbsp\;(UC Santa Cruz)<br>Chair: Terri Peszle&nbsp\;(UC Santa Cruz)<br><br><strong>1.5-hour lunch break</strong><strong><br></strong><strong><br></strong><strong>13:30&ndash\;14:30</strong><br><br>Jessica Li&nbsp\;(Notre Dame)<br>Commentator: Andrew Zhou&nbsp\;(UC Santa Cruz)<br>Chair: Tania Aiyar&nbsp\;(UC Davis)<br><br><strong>30-minute break</strong><strong><br></strong><br><strong>15:00&ndash\;16:00</strong><strong><br></strong><br>Bobby Johnson&nbsp\;(UC Davis)<br>Commentator: Anhui Huang&nbsp\;(UC Berkeley)<br>Chair: Tania Aiyar&nbsp\;(UC Davis)<br><br><strong>30-minute break</strong><strong><br></strong><strong><br></strong><strong>16:30&ndash\;</strong><strong>18</strong><strong>:</strong><strong>00</strong><strong>&nbsp\;</strong><br><br>Keynote:&nbsp\;<strong>Daniel N</strong><strong>olan</strong>&nbsp\;(UC Santa Cruz)</p>\n<p>"<em><strong>Impossible Fictional Characters</strong></em>"&nbsp\;</p>\n\n<p><strong>Sunday &middot\; May 17</strong><strong><br></strong><strong>9:30&ndash\;10:30</strong><br><br>Will Dempsey&nbsp\;(UC Berkeley)<br>Commentator:&nbsp\;Jean-Paul&nbsp\;R Gazzaneo-Duarte (UC Santa Cruz)<br>Chair: James&nbsp\;Read&nbsp\;(UC Santa Cruz)<br><br><strong>30-minute break</strong><br><br><strong>11:00&ndash\;12:00</strong><br><br>Jerome Romagosa&nbsp\;(UC Davis)<br>Commentator: Jean-Paul&nbsp\;R Gazzaneo-Duarte&nbsp\;(UC Santa Cruz)<br>Chair: James&nbsp\;Read&nbsp\;(UC Santa Cruz)</p>
ORGANIZER;CN=Andrew Zhou;CN=Jean-Paul Gazzaneo-Duarte:
METHOD:PUBLISH
END:VEVENT
END:VCALENDAR
